BEGIN:VCALENDAR
VERSION:2.0
PRODID:-//wp-events-plugin.com//7.2.3.1//EN
TZID:America/New_York
X-WR-TIMEZONE:America/New_York
BEGIN:VEVENT
UID:908@breathemiami.us
DTSTART;TZID=America/New_York:20241009T170000
DTEND;TZID=America/New_York:20241009T190000
DTSTAMP:20240925T125835Z
URL:https://breathemiami.us/events/pink-power-yoga/
SUMMARY:Pink Power Yoga
DESCRIPTION:Experience an evening of wellness under the stars with Pink Pow
 er Yoga\, a special rooftop yoga flow class that blends movement\, relaxat
 ion\, and purpose. Connect with your breath\, stretch your body\, and unwi
 nd as you flow through a calming sequence. The session will conclude with 
 the soothing vibrations of sound bowl healing\, designed to deepen your re
 laxation and restore inner balance.\n\nThis unique event not only offers a
 n opportunity to practice mindfulness and rejuvenation but also supports a
  meaningful cause. Every breath\, every stretch\, and every moment of rela
 xation will contribute to making a positive impact.\n\nWhat to Expect:\n\n
  	Yoga Flow: A gentle\, guided session suitable for all levels\n 	Sound Bo
 wl Healing: A meditative sound experience to promote deep relaxation\n 	Ro
 oftop Setting: Enjoy the peaceful atmosphere under the night sky\n 	Good C
 ause: Proceeds from the event will support an important charity initiative
 \n\nCome join the community\, elevate your wellness\, and make a differenc
 e—mind\, body\, and spirit. Bring your mat and an open heart\, and leave
  feeling both refreshed and empowered.\n\nGET TICKETS\n
ATTACH;FMTTYPE=image/jpeg:https://breathemiami.us/wp-content/uploads/2024/
 09/Pink-Power-Yoga.jpg
CATEGORIES:Things To Do,Wellness Events,Yoga Events
LOCATION:InterContinental Miami\, 100 Chopin Plaza \, Miami\, Florida\, 331
 31\, FL\, United States
X-APPLE-STRUCTURED-LOCATION;VALUE=URI;X-ADDRESS=100 Chopin Plaza \, Miami\,
  Florida\, 33131\, FL\, United States;X-APPLE-RADIUS=100;X-TITLE=InterCont
 inental Miami:geo:0,0
END:VEVENT
BEGIN:VTIMEZONE
TZID:America/New_York
X-LIC-LOCATION:America/New_York
BEGIN:DAYLIGHT
DTSTART:20240310T030000
TZOFFSETFROM:-0500
TZOFFSETTO:-0400
TZNAME:EDT
END:DAYLIGHT
END:VTIMEZONE
END:VCALENDAR