BEGIN:VCALENDAR
VERSION:2.0
PRODID:-//wp-events-plugin.com//7.2.3.1//EN
TZID:America/New_York
X-WR-TIMEZONE:America/New_York
BEGIN:VEVENT
UID:842@breathemiami.us
DTSTART;TZID=America/New_York:20241019T163000
DTEND;TZID=America/New_York:20241019T200000
DTSTAMP:20240910T071200Z
URL:https://breathemiami.us/events/pinecrest-zombie-run-powered-by-baptist
 -health/
SUMMARY:Pinecrest Zombie Run powered by Baptist Health
DESCRIPTION:Get ready for a thrilling challenge at the Pinecrest Zombie Run
 \, an exhilarating 2-mile adventure set to take place on Saturday\, Octobe
 r 19 at Evelyn Greer Park. This action-packed event invites participants t
 o navigate a zombie-infested course and test their agility and endurance.\
 n\nThe evening's schedule is as follows:\n\n 	Check-In: Opens at 4:30 PM\n
  	Pre-Run Warm-Up: Begins at 5:45 PM\n 	Run Start: Kicks off at 6:00 PM\n\
 nParticipants will have the chance to experience:\n\n 	A 40-foot Zombie Ma
 ze: Navigate through a thrilling and spooky labyrinth.\n 	A Photo Booth: C
 apture memories with friends and family.\n 	Music and Entertainment: Enjoy
  lively tunes to get you pumped up for the run.\n 	Refreshments for Purcha
 se: Quench your thirst and refuel with snacks and drinks.\n\nTickets are a
 vailable at the following rates:\n\n 	Early Bird Tickets: $20\, available 
 until September 8\n 	General Admission Tickets: $25\, from September 9 thr
 ough October 18\n 	On-Site Tickets: $30\, on the day of the event\n\nEvery
  runner will receive a Zombie Run event t-shirt (while supplies last)\, an
 d costumes are highly encouraged for an extra touch of fun.\n\nDon’t mis
 s out on this spine-chilling adventure! Purchase your tickets early and jo
 in the excitement at Evelyn Greer Park for a night of heart-pounding fun a
 nd eerie thrills.\n\nGET TICKETS\n
ATTACH;FMTTYPE=image/jpeg:https://breathemiami.us/wp-content/uploads/2024/
 09/Pinecrest-Zombie-Run-powered-by-Baptist-Health.jpg
CATEGORIES:Things To Do
LOCATION:Evelyn Greer Park\, 8200 Southwest 124th Street Pinecrest\, Miami\
 , Florida\, 33156\, FL\, United States
X-APPLE-STRUCTURED-LOCATION;VALUE=URI;X-ADDRESS=8200 Southwest 124th Street
  Pinecrest\, Miami\, Florida\, 33156\, FL\, United States;X-APPLE-RADIUS=1
 00;X-TITLE=Evelyn Greer Park:geo:0,0
END:VEVENT
BEGIN:VTIMEZONE
TZID:America/New_York
X-LIC-LOCATION:America/New_York
BEGIN:DAYLIGHT
DTSTART:20240310T030000
TZOFFSETFROM:-0500
TZOFFSETTO:-0400
TZNAME:EDT
END:DAYLIGHT
END:VTIMEZONE
END:VCALENDAR