BEGIN:VCALENDAR
VERSION:2.0
PRODID:-//wp-events-plugin.com//7.2.3.1//EN
TZID:America/New_York
X-WR-TIMEZONE:America/New_York
BEGIN:VEVENT
UID:529@breathemiami.us
DTSTART;TZID=America/New_York:20240622T093000
DTEND;TZID=America/New_York:20240622T110000
DTSTAMP:20240609T014209Z
URL:https://breathemiami.us/events/pilates-sculpt-swim-party/
SUMMARY:Pilates Sculpt + Swim Party
DESCRIPTION:Experience the ultimate wellness journey at the Pilates Sculpt 
 + Swim Party\, hosted by Stephanie Jamieson at the vibrant Arlo Wynwood. T
 his event combines the perfect blend of fitness and fun in the heart of Wy
 nwood\, offering an invigorating and refreshing day out.\nPilates Sculpt C
 lass with Stephanie Jamieson\nBegin your day with a dynamic Pilates Sculpt
  class led by the renowned Stephanie Jamieson. This class is designed to t
 one your body and rejuvenate your mind through a series of invigorating ex
 ercises. Stephanie’s expert guidance ensures that each movement enhances
  strength\, flexibility\, and overall fitness\, leaving you feeling empowe
 red and revitalized.\nRefreshing Pool Party\nAfter the Pilates session\, t
 ransition into a refreshing pool party at the stylish Arlo Wynwood. Soak u
 p the sun\, enjoy the cool waters\, and embrace the lively poolside vibes.
  This is the perfect opportunity to relax\, unwind\, and socialize with fr
 iends and fellow wellness enthusiasts.\nThe Perfect Blend of Fitness and F
 un\nThis unique event offers a harmonious balance of physical activity and
  relaxation\, making it an ideal way to spend your day in Wynwood. Whether
  you’re a fitness aficionado or simply looking for a fun and healthy way
  to spend your time\, the Pilates Sculpt + Swim Party caters to all.\n\nJo
 in us for a day of movement\, relaxation\, and social connection. Experien
 ce the transformative power of Pilates\, followed by the joyous atmosphere
  of a poolside party. It’s an event that promises not only to enhance yo
 ur physical well-being but also to provide a memorable and enjoyable exper
 ience in the heart of Wynwood.\n\nGET TICKETS\n
ATTACH;FMTTYPE=image/jpeg:https://breathemiami.us/wp-content/uploads/2024/
 06/swim-sculpt.jpg
CATEGORIES:Mindfulness Events,Wellness Events
LOCATION:Arlo Wynwood Miami\, 2217 Northwest Miami Court Miami\, Miami\, Fl
 orida\, 33127\,  FL \, United States
X-APPLE-STRUCTURED-LOCATION;VALUE=URI;X-ADDRESS=2217 Northwest Miami Court 
 Miami\, Miami\, Florida\, 33127\,  FL \, United States;X-APPLE-RADIUS=100;
 X-TITLE=Arlo Wynwood Miami:geo:0,0
END:VEVENT
BEGIN:VTIMEZONE
TZID:America/New_York
X-LIC-LOCATION:America/New_York
BEGIN:DAYLIGHT
DTSTART:20240310T030000
TZOFFSETFROM:-0500
TZOFFSETTO:-0400
TZNAME:EDT
END:DAYLIGHT
END:VTIMEZONE
END:VCALENDAR