BEGIN:VCALENDAR
VERSION:2.0
PRODID:-//wp-events-plugin.com//7.2.3.1//EN
TZID:America/New_York
X-WR-TIMEZONE:America/New_York
BEGIN:VEVENT
UID:46@breathemiami.us
DTSTART;TZID=America/New_York;VALUE=DATE:20230914
DTEND;TZID=America/New_York;VALUE=DATE:20230918
DTSTAMP:20240908T154124Z
URL:https://breathemiami.us/events/pilates-empowerment-summit-fort-lauderd
 ale-fl/
SUMMARY:Pilates Empowerment Summit - Fort Lauderdale\, FL
DESCRIPTION:Pilates empowerment summit is a 4-day wellness experience desig
 ned to enhance personal growth and expand your professional expertise.\n\n
 &nbsp\;\n\nIt’s time to bring our extraordinary Pilates community togeth
 er again! In recent years\, we’ve stayed connected in new ways\, but we 
 can’t wait to be together in person at the Pilates Empowerment Summit in
  Fort Lauderdale this September.\n\nPower up your future at PES with the c
 ollective strength of instructors\, enthusiasts\, and a supportive communi
 ty of top Pilates professionals from around the world. Gain insight\, heig
 hten your Pilates practice and enhance your expertise in more than 50 uniq
 ue sessions from leading industry experts\, including Peak Pilates® Maste
 r Instructors that you won’t find anywhere else.\n\nGo beyond earning CE
 Cs and empower yourself with improved technique and teaching skills\, nurt
 ure your relationships within the Pilates community\, and link arms as we 
 head into the future. Together we are #peakstrong!\nPre-Conference Session
 s\nSeptember 14\nFull Conference Days\nSeptember 15-16\nPost-Conference Se
 ssion\nSeptember 17\n\nFULL SUMMIT\nFriday and Saturday\n$399\nONE-DAY PAS
 S\n$259/day\nREGISTER NOW\n&nbsp\;\n\n&nbsp\;\nLearn more
ATTACH;FMTTYPE=image/jpeg:https://breathemiami.us/wp-content/uploads/2023/
 09/chrome_7imtoBK4vQ-e1694214592270.png
CATEGORIES:Wellness Events
END:VEVENT
BEGIN:VTIMEZONE
TZID:America/New_York
X-LIC-LOCATION:America/New_York
BEGIN:DAYLIGHT
DTSTART:20230312T030000
TZOFFSETFROM:-0500
TZOFFSETTO:-0400
TZNAME:EDT
END:DAYLIGHT
END:VTIMEZONE
END:VCALENDAR