BEGIN:VCALENDAR
VERSION:2.0
PRODID:-//wp-events-plugin.com//7.2.3.1//EN
TZID:America/New_York
X-WR-TIMEZONE:America/New_York
BEGIN:VEVENT
UID:630@breathemiami.us
DTSTART;TZID=America/New_York:20240711T160000
DTEND;TZID=America/New_York:20240711T183000
DTSTAMP:20240718T105256Z
URL:https://breathemiami.us/events/pet-wellness/
SUMMARY:Pet Wellness
DESCRIPTION:Enjoy an afternoon filled with vendors\, music\, and engaging p
 et wellness workshops. Experience the calming and healing benefits of Reik
 i and a Sound Bath alongside your beloved pets.\n\nEvent Highlights:\n\n 	
 Vendor Booths: Explore a variety of pet-friendly products and services fro
 m local vendors.\n 	Live Music: Enjoy soothing tunes that create a relaxin
 g atmosphere for both you and your pets.\n 	Wellness Workshops: Participat
 e in informative and interactive sessions focused on pet health and wellne
 ss.\n\nSpecial Activities:\n\n 	Reiki for Pets: Discover the healing power
  of Reiki as practitioners provide gentle energy healing for your furry fr
 iends.\n 	Sound Bath Experience: Immerse yourself and your pets in the har
 monious vibrations of a Sound Bath\, designed to promote relaxation and we
 ll-being.\n\nCome and join us for a tranquil afternoon dedicated to the he
 alth and happiness of your pets. This event is perfect for pet lovers seek
 ing holistic wellness experiences for themselves and their animal companio
 ns.\n\nGET TICKETS\n
ATTACH;FMTTYPE=image/jpeg:https://breathemiami.us/wp-content/uploads/2024/
 07/Pet-Wellness.jpg
CATEGORIES:Things To Do,Wellness Events,Yoga Events
LOCATION:FurNation\, 132 Southwest 9th Street Miami\, Miami\, Florida\, 331
 30\, FL \, United States
X-APPLE-STRUCTURED-LOCATION;VALUE=URI;X-ADDRESS=132 Southwest 9th Street Mi
 ami\, Miami\, Florida\, 33130\, FL \, United States;X-APPLE-RADIUS=100;X-T
 ITLE=FurNation:geo:0,0
END:VEVENT
BEGIN:VTIMEZONE
TZID:America/New_York
X-LIC-LOCATION:America/New_York
BEGIN:DAYLIGHT
DTSTART:20240310T030000
TZOFFSETFROM:-0500
TZOFFSETTO:-0400
TZNAME:EDT
END:DAYLIGHT
END:VTIMEZONE
END:VCALENDAR