BEGIN:VCALENDAR
VERSION:2.0
PRODID:-//wp-events-plugin.com//7.2.3.1//EN
TZID:America/New_York
X-WR-TIMEZONE:America/New_York
BEGIN:VEVENT
UID:806@breathemiami.us
DTSTART;TZID=America/New_York:20240922T130000
DTEND;TZID=America/New_York:20240922T150000
DTSTAMP:20240906T190551Z
URL:https://breathemiami.us/events/perfumer-for-a-day-workshop/
SUMMARY:Perfumer for a Day Workshop
DESCRIPTION:Dive into the art of perfumery with the Perfumer for a Day Work
 shop\, a unique one-day experience that invites participants to explore th
 e world of fragrance creation. This interactive workshop is designed for t
 hose curious about the craft of perfume-making\, offering a hands-on appro
 ach to understanding and designing personalized scents.\n\nWorkshop Overvi
 ew:\n\n 	Introduction: Begin with a comprehensive overview of perfumery fu
 ndamentals. This segment covers essential theoretical knowledge\, includin
 g basic safety protocols necessary for handling aromatic materials.\n 	Olf
 active Memory Building: Delve into the sensory exploration of perfumery in
 gredients. Participants will engage in testing a variety of raw materials\
 , from classic to exotic aromas. Through this process\, attendees are enco
 uraged to note their sensory experiences and associations\, helping to cre
 ate a personalized olfactory reference library.\n 	Create Your Own Fragran
 ce: Apply the techniques and insights gained from the earlier sessions to 
 craft your own signature perfume or cologne. Using the provided materials\
 , each participant will formulate and blend their unique fragrance\, culmi
 nating in a custom-made scent to take home.\n\nWhat’s Included:\n\n 	All
  necessary materials\, including essential oils\, natural isolates\, carri
 er oils\, glass vials\, pipettes\, and gloves.\n 	Expert guidance and inst
 ruction throughout the workshop.\n\nCost: $60\n\nAdditional Information:\n
 \n 	The workshop features a small class size to ensure personalized attent
 ion and a focused learning environment.\n 	Spaces are limited\, so early r
 egistration is recommended to secure your spot.\n\nJoin this immersive wor
 kshop to unlock your creativity and gain a deeper appreciation for the art
  of fragrance.\n\n\nGET TICKETS\n\n
CATEGORIES:Things To Do
LOCATION:Miami Beach Botanical Garden\, 2000 Convention Center Dr Miami Bea
 ch\, Miami\, Florida\, 33139\, Bangladesh
X-APPLE-STRUCTURED-LOCATION;VALUE=URI;X-ADDRESS=2000 Convention Center Dr M
 iami Beach\, Miami\, Florida\, 33139\, Bangladesh;X-APPLE-RADIUS=100;X-TIT
 LE=Miami Beach Botanical Garden:geo:0,0
END:VEVENT
BEGIN:VTIMEZONE
TZID:America/New_York
X-LIC-LOCATION:America/New_York
BEGIN:DAYLIGHT
DTSTART:20240310T030000
TZOFFSETFROM:-0500
TZOFFSETTO:-0400
TZNAME:EDT
END:DAYLIGHT
END:VTIMEZONE
END:VCALENDAR