BEGIN:VCALENDAR
VERSION:2.0
PRODID:-//wp-events-plugin.com//7.2.3.1//EN
TZID:America/New_York
X-WR-TIMEZONE:America/New_York
BEGIN:VEVENT
UID:800@breathemiami.us
DTSTART;TZID=America/New_York:20240915T180000
DTEND;TZID=America/New_York:20240915T210000
DTSTAMP:20240906T180241Z
URL:https://breathemiami.us/events/paws-peace-reiki-wine-and-wellness-at-m
 agie-miami/
SUMMARY:Paws & Peace: Reiki\, Wine\, and Wellness at Magie Miami
DESCRIPTION:Discover a day of relaxation and community connection at Paws &
 amp\; Peace: Reiki\, Wine\, and Wellness hosted at Magie Miami on Sunday\,
  September 15\, 2024\, from 6:00 to 9:00 PM EST. This unique event blends 
 holistic wellness with social enjoyment\, offering a rejuvenating experien
 ce for both you and your furry friends.\n\nImmerse yourself in tranquility
  with a calming Reiki session designed to harmonize your mind\, body\, and
  spirit. Experience the soothing benefits of this ancient healing practice
 \, and let go of stress and tension.\n\nThroughout the evening\, participa
 nts will enjoy an array of delightful gifts and snacks\, enhancing the ove
 rall sense of well-being. A complimentary glass of wine will be served\, a
 dding a touch of indulgence to the event.\n\nJoin us in creating a peacefu
 l and positive atmosphere\, where you can unwind\, connect with others\, a
 nd share in the joy of wagging tails and community spirit. Don't miss this
  opportunity to nurture your wellness and make a meaningful impact in the 
 community.\n\nCome embrace the serenity of Paws &amp\; Peace and leave fee
 ling refreshed and uplifted!\n\nGET TICKETS\n
ATTACH;FMTTYPE=image/jpeg:https://breathemiami.us/wp-content/uploads/2024/
 09/Paws-Peace-Reiki-Wine-and-Wellness-at-Magie-Miami.jpg
CATEGORIES:Mindfulness Events,Things To Do,Wellness Events
LOCATION:8281 NE 2nd Ave\, 8281 Northeast 2nd Avenue Miami\, Miami\, Florid
 a\, 33138\, FL\, United States
X-APPLE-STRUCTURED-LOCATION;VALUE=URI;X-ADDRESS=8281 Northeast 2nd Avenue M
 iami\, Miami\, Florida\, 33138\, FL\, United States;X-APPLE-RADIUS=100;X-T
 ITLE=8281 NE 2nd Ave:geo:0,0
END:VEVENT
BEGIN:VTIMEZONE
TZID:America/New_York
X-LIC-LOCATION:America/New_York
BEGIN:DAYLIGHT
DTSTART:20240310T030000
TZOFFSETFROM:-0500
TZOFFSETTO:-0400
TZNAME:EDT
END:DAYLIGHT
END:VTIMEZONE
END:VCALENDAR