BEGIN:VCALENDAR
VERSION:2.0
PRODID:-//wp-events-plugin.com//7.2.3.1//EN
TZID:America/New_York
X-WR-TIMEZONE:America/New_York
BEGIN:VEVENT
UID:44@breathemiami.us
DTSTART;TZID=America/New_York:20230910T170000
DTEND;TZID=America/New_York:20230910T190000
DTSTAMP:20240908T153751Z
URL:https://breathemiami.us/events/past-life-regression-for-empaths-hsp-an
 d-healers-with-janet-namaste/
SUMMARY:Past Life Regression for Empaths\, HSP\, and Healers with Janet Nam
 aste
DESCRIPTION:Join Janet Namaste to be guided through the depths of your soul
 's history and the unique connection it shares with your empathic nature.\
 nAre you ready to delve into the depths of your soul's history?\n\nDo you 
 ever wonder how your empathic nature is intertwined with the tapestry of y
 our past lives?\n\nJoin NYC’s Celebrity Intuitive Healer and Past Life R
 egressionist\, Janet Namaste for an illuminating and transformative journe
 y where we will explore the profound connection between past life regressi
 on and the empowered empath. This workshop is designed to guide YOU throug
 h the depths of your soul's history and the unique connection it shares wi
 th your empathic nature. You will:\n\n 	Discover the power of your empathi
 c abilities and how they relate to your soul's journey across lifetimes.\n
  	Learn techniques to release emotional baggage carried through multiple l
 ifetimes\, allowing you to step into your true potential as an empowered e
 mpath.\n 	Heal and process fears and anxiety so you can receive clear guid
 ance on your next steps.\n 	Process\, integrate\, and release repetitive 
 “old stuff” so you can create deep\, loving and healthy relationships 
 with your family and friends.\n 	Gain insights into how your past life exp
 eriences can be applied to enhance your empathic strengths\, set healthy b
 oundaries\, and live a more fulfilling life.\n 	Experience a progression t
 hat will align you to the FUTURE Empowered YOU!\n\nUtilizing Past Life Reg
 ression and hypno techniques along with experiential exercises\, you will 
 leave the workshop feeling empowered\, enlightened\, and ready to step int
 o your greatness. You will have the opportunity to connect with other life
 times\, see the bigger picture of your soul’s journey and unblock subcon
 scious programs that may have been hidden for years and perhaps lifetimes!
 \n\nGET TICKETS\n\n&nbsp\;\nWho:\nCelebrity Intuitive Healer\, Janet Namas
 te\, is gifted in the innate ability to help people discover their life’
 s purpose and develop practical strategies to claim their destiny. A skill
 ed Clairvoyant\, Claircognizant\, Clairaudient\, Clairsentient\, and a Mas
 ter Energy Healer with over 25 years of experience\, she has empowered and
  aided the transformations of thousands globally to become aligned with th
 eir innate truth. She is a Spiritual Teacher\, Thought Leader\, Intuitive 
 Consultant\, Host of Raw Real Talks\, Founder of The Destiny Blueprint Pro
 gram\, Soul Star Membership\, and Founder of The Conscious Healer’s Acad
 emy\, an international program for healing professionals that help raise t
 he consciousness of the world. She is also a skilled hypnotherapist\, spec
 ializing in regression therapy trained by World Renowned Dr. Brian Weiss. 
 In her numerous speaker engagements\, Janet is known for her nurturing yet
  keeping it real candor\, and her humorous and grounded delivery that cont
 inues to inspire people globally. Whether it’s through her seminars or p
 rivate consultations\, she is highly praised for her natural ability to he
 lp people understand their life’s purpose and develop practical strategi
 es for their destiny with truth and grace.\nParking:\nThere is metered par
 king alongside the streets of Upper Buena Vista on NE 2nd Avenue as well a
 s NE 50th Terrace. Do NOT park in residential zone - they do tow.\nBring:\
 nPlease bring a journal\, pen\, and a crystal that has a special meaning t
 o you.\nTickets:\nRegistration is Early Bird or General Admission\nExclusi
 ve Rates for Members:\nClick to explore the benefits and join a plan.\n\n1
 0% off this session with ŌMIE PLAN ($49 per year)\n10% off this session w
 ith PRACTICE PLAN ($99 per month)\nThis session is included with ACCESS PL
 AN ($199 per month)\nMindful Miles™️:\nThis session is worth ❶ Mindf
 ul Mile --&gt\; get rewarded for your spiritual practice. All Members are 
 enrolled into our “frequent flier” program for our Miami events.\n\n 	
 Every 10MM you earn\, receive a reward to celebrate your practice\n 	Every
  25MM you earn\, receive a MM status upgrade\, which comes with valuable p
 erks\n\nOnline Resources:\nIf you cannot join us in person\, we have the f
 ollowing online resources available.\n\n 	Modern Medi Club - a friendly do
 nation-based online meditation studio with classes daily at 8am\, 10am\, a
 nd 8pm. This online studio is FREE to join and can be joined separately fr
 om Miami plans.\n 	Cushion Crawl On Demand - 500 videos that were recorded
  over a period of 3 years by 120+ world-class facilitators. Access to this
  Content Library is given with all Miami plans.\n\nFollow us: Instagram | 
 TikTok | Miami Telegram\nABOUT MODERN ŌM\nModern ŌM has been connecting
  community to world-class spiritual wellness programs since 2016. Our offe
 rings include 30+ Miami event monthly\, retreats\, trainings\, online medi
 tations via the Modern Medi Club\, and branded merchandise.\n\nConsider us
  your resource for spiritual wellness. We support an ever-evolving communi
 ty of entrepreneurs\, professionals\, and creatives that prioritize their 
 spiritual well-being. Join us in Miami and beyond.\nCOMMUNITY PRAISE\n"I l
 ove the community\, I love the vibe of Modern ŌM!!" - Seema\n\n"I highly 
 recommend this membership - you will not regret it!" - Nadine\n\n“You ca
 n really tell Modern ŌM truly truly cares about its community and the con
 scious evolution of its members. Thank you!” - Alessandra\n\n\n\n
ATTACH;FMTTYPE=image/jpeg:https://breathemiami.us/wp-content/uploads/2023/
 09/past-life-regression-for-empaths-HSP-and-healers-with-janet-namaste-fea
 tured.jpeg
CATEGORIES:Mindfulness Events,Things To Do,Wellness Events
LOCATION:Modern ŌM Bungalow\, 5020 Northeast 2nd Avenue\, Miami\, FL\, 331
 37\, United States
X-APPLE-STRUCTURED-LOCATION;VALUE=URI;X-ADDRESS=5020 Northeast 2nd Avenue\,
  Miami\, FL\, 33137\, United States;X-APPLE-RADIUS=100;X-TITLE=Modern ŌM 
 Bungalow:geo:0,0
END:VEVENT
BEGIN:VTIMEZONE
TZID:America/New_York
X-LIC-LOCATION:America/New_York
BEGIN:DAYLIGHT
DTSTART:20230312T030000
TZOFFSETFROM:-0500
TZOFFSETTO:-0400
TZNAME:EDT
END:DAYLIGHT
END:VTIMEZONE
END:VCALENDAR