BEGIN:VCALENDAR
VERSION:2.0
PRODID:-//wp-events-plugin.com//7.2.3.1//EN
TZID:America/New_York
X-WR-TIMEZONE:America/New_York
BEGIN:VEVENT
UID:394@breathemiami.us
DTSTART;TZID=America/New_York:20240407T120000
DTEND;TZID=America/New_York:20240407T200000
DTSTAMP:20240317T200854Z
URL:https://breathemiami.us/events/palm-island-with-biohacking-yoga-breath
 /
SUMMARY:Ultimate Reset Day at Palm Island with Biohacking\, Yoga\, Breath\,
  Dance+
DESCRIPTION:\nReclaim Your Best Self at the Ultimate System Reset Day in Mi
 ami\nImmerse yourself in a transformative wellness experience at the Ultim
 ate System Reset Day on Palm Island\, Miami. This immersive event promises
  to revitalize your mind\, body\, and spirit\, guiding you toward optimal 
 health\, harmony\, and happiness.\nRedefine Your Relationships:\nThe theme
  delves into redefining relationships\, both within yourself and with thos
 e around you. Prepare for a journey of self-discovery and connection\, fac
 ilitated by world-renowned experts like NOA|AON\, Leila Centner\, Dr. John
  Lieurance\, and Tiffany Basket.\nA Multi-Sensory Experience:\nThis isn't 
 your ordinary wellness event. Engage all five physical senses and four psy
 chic senses through a synchronized musical show\, featuring instrumentalis
 ts\, speakers\, singers\, and sound healers.\nReset and Rejuvenate:\n\n\n 
 	Cutting-edge Techniques: Explore various modalities like biohacking\, bre
 athwork\, the Wim Hof Method (including an ice bath!)\, and ecstatic dance
 .\n 	Ancient Wisdom: Delve into ancestral and spiritual connections\, trau
 ma release methods\, and new habit formation.\n 	Modern Science: Learn sci
 ence-backed tools for emotional resilience\, mind mastery\, meditation\, a
 nd relationship harmonization.\n\nUnlock Your Potential:\n\n\n 	Masterclas
 s in Happiness: Receive teachings from NOA|AON\, a renowned expert on achi
 eving happiness\, health\, and harmony.\n 	System Reset Tools: Gain valuab
 le tools and techniques you can integrate into your daily life for lasting
  well-being.\n 	Ongoing Support: Continue your journey with a 30-day free 
 on-demand library and optional consultations with the accountability team.
 \n\nThis Event is For You:\nWhether you're a seasoned practitioner or a co
 mplete beginner\, this event offers something for everyone. It's ideal for
  those seeking to:\n\n\n 	Heal from Past Trauma: Release negative habits a
 nd move forward with renewed purpose.\n 	Reconnect with Your Essence: Disc
 onnect from regular life and rediscover your core self.\n 	Find Your Tribe
 : Connect with a supportive community who share your passion for well-bein
 g.\n 	Learn Effective Techniques: Discover easy and fast techniques that d
 eliver real results.\n 	Expand Your Consciousness: Deepen your practice an
 d explore advanced tools.\n\nScientifically Backed Benefits:\nThe System R
 eset experience is backed by science\, offering potential benefits like re
 duced stress\, increased energy\, improved sleep\, and enhanced emotional 
 well-being.\nJoin the Movement:\nBe part of a transformative experience th
 at goes beyond this single day. This event is a springboard for a journey 
 of continual self-improvement and growth.\nReserve Your Spot and Reclaim Y
 our Best Self Today!\nP.S. Learn more about Centner Wellness\, the event's
  host\, at CentnerWellness.com.\n\n\n\n\nGET TICKETS\n\n
ATTACH;FMTTYPE=image/jpeg:https://breathemiami.us/wp-content/uploads/2024/
 03/https___cdn.evbuc_.com_images_715080649_1944085106763_1_original.jpeg
CATEGORIES:Wellness Events
LOCATION:Palm Island\, Palm Island \, Miami Beach\, Florida\, 33139\, Unite
 d States
X-APPLE-STRUCTURED-LOCATION;VALUE=URI;X-ADDRESS=Palm Island \, Miami Beach\
 , Florida\, 33139\, United States;X-APPLE-RADIUS=100;X-TITLE=Palm Island:g
 eo:0,0
END:VEVENT
BEGIN:VTIMEZONE
TZID:America/New_York
X-LIC-LOCATION:America/New_York
BEGIN:DAYLIGHT
DTSTART:20240310T030000
TZOFFSETFROM:-0500
TZOFFSETTO:-0400
TZNAME:EDT
END:DAYLIGHT
END:VTIMEZONE
END:VCALENDAR