BEGIN:VCALENDAR
VERSION:2.0
PRODID:-//wp-events-plugin.com//7.2.3.1//EN
TZID:America/New_York
X-WR-TIMEZONE:America/New_York
BEGIN:VEVENT
UID:1210@breathemiami.us
DTSTART;TZID=America/New_York;VALUE=DATE:20241212
DTEND;TZID=America/New_York;VALUE=DATE:20241216
DTSTAMP:20241130T085250Z
URL:https://breathemiami.us/events/palm-beach-food-wine-festival/
SUMMARY:Palm Beach Food & Wine Festival
DESCRIPTION:While South Beach often steals the spotlight\, Palm Beach prove
 s it’s a culinary powerhouse in its own right with the return of the Pal
 m Beach Food &amp\; Wine Festival. Over four indulgent days from December 
 12 to December 15\, the festival invites food lovers to savor the flavors 
 of world-class cuisine in one of Florida’s most glamorous settings.\n\nN
 ow in its 17th year\, the festival has cemented itself as a premier destin
 ation for gastronomes\, featuring an extraordinary blend of local culinary
  talent and renowned international chefs. With 25 diverse events spread ac
 ross Palm Beach’s iconic locations\, this year’s edition promises to e
 levate the art of dining.\nA Star-Studded Culinary Affair\nThe festival as
 sembles a dazzling lineup of culinary personalities\, from celebrated loca
 l chefs to globally recognized hospitality innovators. Attendees can look 
 forward to intimate dinners\, interactive cooking demonstrations\, and exc
 iting culinary competitions where chefs showcase their artistry. Beyond th
 e food\, mixologists and sommeliers will add a spirited touch\, crafting b
 everages that perfectly complement the festival’s gourmet offerings.\nHi
 ghlights of the 2024 Edition\nThis year’s festival expands its offerings
  with some thrilling additions:\n\n 	Grand Tasting Finale\nThe festival co
 ncludes in style on Sunday\, December 15\, with the highly anticipated Gra
 nd Tasting at the Palm Beach Convention Center. This decadent event featur
 es a robust lineup of dishes prepared by top chefs and over 100 wine table
 s\, pouring selections that have all earned a 90+ rating from Wine Spectat
 or. It’s a wine lover’s dream come true.\n 	Expanded Wine Program\nThe
  festival’s wine program has been elevated\, spotlighting some of the wo
 rld’s finest vintages and offering guided tastings that highlight the ar
 t of wine pairing.\n 	Exclusive Dining Experiences\nThroughout the week\, 
 luxury hotels\, private estates\, and Palm Beach’s finest restaurants ho
 st one-of-a-kind dinners\, where attendees can savor multi-course meals pr
 epared by Michelin-starred chefs.\n 	Interactive Events\nCulinary enthusia
 sts can roll up their sleeves and participate in hands-on classes and work
 shops\, perfect for those eager to learn the secrets behind their favorite
  dishes or beverages.\n\nA Culinary Destination Worth the Trip\nLocated ju
 st a short drive north of Miami\, Palm Beach transforms into a food lover
 ’s paradise during the festival. Beyond the culinary delights\, the even
 t provides an opportunity to enjoy the region’s natural beauty\, high-en
 d shopping\, and luxurious accommodations.\nPlan Your Visit\nWith events t
 aking place across various venues in Palm Beach\, attendees are encouraged
  to book their tickets early\, as many of the intimate dinners and worksho
 ps sell out quickly. Whether you're a connoisseur of fine wine\, a lover o
 f haute cuisine\, or simply someone looking for a memorable way to enjoy t
 he holiday season\, the Palm Beach Food &amp\; Wine Festival is a must-att
 end experience.\nA Celebration of Flavor and Elegance\nFrom the savory to 
 the sweet\, the festival promises an unforgettable journey through the cul
 inary arts\, celebrating the talent and creativity of the world’s best c
 hefs\, winemakers\, and mixologists. As the Palm Beach Food &amp\; Wine Fe
 stival enters its 17th year\, it continues to offer a perfect blend of epi
 curean delight and coastal charm\, making it a standout event in Florida
 ’s culinary calendar.\n\nGET TICKETS\n
ATTACH;FMTTYPE=image/jpeg:https://breathemiami.us/wp-content/uploads/2024/
 11/Palm-Beach-Food-Wine-Festival.webp
CATEGORIES:Food &amp; Drink Events,Things To Do
LOCATION:Palm Beach County Convention Center\, 650 Okeechobee Blvd \, West 
 Palm Beach\, Miami\, Florida\, 33401\, FL\, United States
X-APPLE-STRUCTURED-LOCATION;VALUE=URI;X-ADDRESS=650 Okeechobee Blvd \, West
  Palm Beach\, Miami\, Florida\, 33401\, FL\, United States;X-APPLE-RADIUS=
 100;X-TITLE=Palm Beach County Convention Center:geo:0,0
END:VEVENT
BEGIN:VTIMEZONE
TZID:America/New_York
X-LIC-LOCATION:America/New_York
BEGIN:STANDARD
DTSTART:20241103T010000
TZOFFSETFROM:-0400
TZOFFSETTO:-0500
TZNAME:EST
END:STANDARD
END:VTIMEZONE
END:VCALENDAR