BEGIN:VCALENDAR
VERSION:2.0
PRODID:-//wp-events-plugin.com//7.2.3.1//EN
TZID:America/New_York
X-WR-TIMEZONE:America/New_York
BEGIN:VEVENT
UID:782@breathemiami.us
DTSTART;TZID=America/New_York:20240913T193000
DTEND;TZID=America/New_York:20240913T210000
DTSTAMP:20240825T131205Z
URL:https://breathemiami.us/events/paint-pour-ruka-winewood/
SUMMARY:Paint & Pour - RUKA Winewood
DESCRIPTION:Gather your friends for an evening of artistic exploration and 
 delightful indulgence at Paint &amp\; Pour at RUKA Winewood! This event in
 vites you to an enchanting night filled with delicious wine\, light bites\
 , and carefree painting.\n\nEvent Details:\n\nDate and Location: Experienc
 e the vibrant ambiance of RUKA Winewood as you immerse yourself in a creat
 ive night out.\n\nWhat to Expect: Enjoy an array of light appetizers and s
 avor a selection of exceptional wines that will complement your artistic e
 ndeavors. All painting supplies and materials will be provided\, so you ca
 n focus on unleashing your creativity.\n\nArtistic Freedom: Whether you co
 nsider yourself a seasoned artist or a complete novice\, this event is des
 igned to inspire. Let the wine enhance your creativity and help you discov
 er the artist within. No prior painting experience is necessary—just com
 e ready to relax\, unwind\, and have fun.\n\nAtmosphere: The evening promi
 ses a relaxed and enjoyable environment where you can socialize\, sip\, an
 d create. With the guidance provided\, you’ll find that expressing yours
 elf through art can be both simple and rewarding.\n\nSo\, bring your frien
 ds and join us for a night where creativity meets camaraderie. We look for
 ward to sharing this special experience with you at Paint &amp\; Pour - RU
 KA Winewood!\n\nGET TICKETS\n
ATTACH;FMTTYPE=image/jpeg:https://breathemiami.us/wp-content/uploads/2024/
 08/Paint-Pour-RUKA-Winewood.jpg
CATEGORIES:Food &amp; Drink Events,Mindfulness Events,Things To
 Do,Wellness Events
LOCATION:RUKA WINEWOOD\, 51 NE 24 St \, Miami\, Florida\, 33137\, FL\, Unit
 ed States
X-APPLE-STRUCTURED-LOCATION;VALUE=URI;X-ADDRESS=51 NE 24 St \, Miami\, Flor
 ida\, 33137\, FL\, United States;X-APPLE-RADIUS=100;X-TITLE=RUKA WINEWOOD:
 geo:0,0
END:VEVENT
BEGIN:VTIMEZONE
TZID:America/New_York
X-LIC-LOCATION:America/New_York
BEGIN:DAYLIGHT
DTSTART:20240310T030000
TZOFFSETFROM:-0500
TZOFFSETTO:-0400
TZNAME:EDT
END:DAYLIGHT
END:VTIMEZONE
END:VCALENDAR