BEGIN:VCALENDAR
VERSION:2.0
PRODID:-//wp-events-plugin.com//7.2.3.1//EN
TZID:America/New_York
X-WR-TIMEZONE:America/New_York
BEGIN:VEVENT
UID:910@breathemiami.us
DTSTART;TZID=America/New_York:20241012T070000
DTEND;TZID=America/New_York:20241019T143000
DTSTAMP:20240925T134510Z
URL:https://breathemiami.us/events/paint-perrine-pink-2024/
SUMMARY:Paint Perrine Pink 2024
DESCRIPTION:On October 12th\, the vibrant community of Perrine will come to
 gether for the 5th Annual Paint Perrine Pink event\, a lively celebration 
 aimed at raising awareness and promoting support for breast cancer initiat
 ives. This year promises to be bigger and better\, with a wide array of ac
 tivities designed to engage individuals and families alike.\n\nParticipant
 s can look forward to complimentary food and refreshments throughout the d
 ay\, ensuring that everyone can enjoy a taste of the community spirit. In 
 addition\, there will be exciting giveaways\, providing opportunities for 
 attendees to win fun prizes and local goodies.\n\nFamilies with children w
 ill find plenty to keep the little ones entertained\, as there will be var
 ious kid-friendly activities designed to engage and educate. This includes
  arts and crafts stations\, games\, and interactive experiences that highl
 ight the importance of community support.\n\nMoreover\, the event will fea
 ture valuable community resources aimed at raising awareness about breast 
 cancer prevention\, early detection\, and support services available to th
 ose affected. Local organizations and healthcare providers will be on hand
  to share information and answer questions\, fostering a supportive atmosp
 here for all attendees.\n\nThe Paint Perrine Pink event is not just a gath
 ering\; it is a heartfelt commitment to promoting health\, wellness\, and 
 solidarity in the fight against breast cancer. Everyone is encouraged to w
 ear pink to show their support and solidarity with those impacted by this 
 important cause.\n\nJoin the community in this meaningful event to celebra
 te life\, support one another\, and make a difference together. Mark your 
 calendars for October 12th and be part of a day filled with connection\, c
 ompassion\, and community spirit!\n\nGET TICKETS\n
ATTACH;FMTTYPE=image/jpeg:https://breathemiami.us/wp-content/uploads/2024/
 09/Paint-Perrine-Pink-2024.jpg
CATEGORIES:Things To Do,Wellness Events,Yoga Events
LOCATION:West Perrine Park\, 10301 Southwest 170th Terrace \, Miami\, Flori
 da\, 33157\, FL\, United States
X-APPLE-STRUCTURED-LOCATION;VALUE=URI;X-ADDRESS=10301 Southwest 170th Terra
 ce \, Miami\, Florida\, 33157\, FL\, United States;X-APPLE-RADIUS=100;X-TI
 TLE=West Perrine Park:geo:0,0
END:VEVENT
BEGIN:VTIMEZONE
TZID:America/New_York
X-LIC-LOCATION:America/New_York
BEGIN:DAYLIGHT
DTSTART:20240310T030000
TZOFFSETFROM:-0500
TZOFFSETTO:-0400
TZNAME:EDT
END:DAYLIGHT
END:VTIMEZONE
END:VCALENDAR