BEGIN:VCALENDAR
VERSION:2.0
PRODID:-//wp-events-plugin.com//7.2.3.1//EN
TZID:America/New_York
X-WR-TIMEZONE:America/New_York
BEGIN:VEVENT
UID:1180@breathemiami.us
DTSTART;TZID=America/New_York:20241101T184500
DTEND;TZID=America/New_York:20241101T220000
DTSTAMP:20241024T051743Z
URL:https://breathemiami.us/events/paint-n-paradox/
SUMMARY:Paint n Paradox
DESCRIPTION:For those seeking an unforgettable night out\, Paint n Paradox 
 offers a truly unique experience that blends creativity with mind-bending 
 entertainment. This immersive event takes place every First Friday at the 
 Paradox Museum Miami\, where guests will embark on an exciting evening com
 bining art and illusions.\n\nThe event kicks off with a 90-minute guided t
 our through over 70 interactive exhibits at the Paradox Experience Miami. 
 From jaw-dropping optical illusions to hands-on displays that challenge yo
 ur perception\, this journey through a world of wonder and impossibility w
 ill keep you engaged at every turn. Each exhibit plays with the boundaries
  of reality\, leaving visitors both mystified and delighted. Whether it’
 s mind-bending mirror mazes or thought-provoking installations\, the exper
 ience offers something unexpected around every corner.\n\nBut the fun does
 n’t stop there. After the tour\, guests are invited to unleash their cre
 ativity in a 90-minute paint class\, perfect for both beginners and season
 ed artists. Under the guidance of an experienced instructor\, participants
  will have the chance to create their own masterpiece in a laid-back\, soc
 ial setting. All art supplies\, from canvases to brushes and paints\, are 
 provided\, making it a hassle-free and enjoyable experience for everyone.\
 n\nAdding a personal touch to the evening\, guests are welcome to bring th
 eir own drinks and snacks\, turning the event into a relaxed and interacti
 ve social gathering. Sip on your favorite beverages\, snack on treats\, an
 d let your creativity flow in a night where art meets illusion.\n\nWhether
  you're looking to explore the artistic side of yourself or simply enjoy a
 n unconventional outing with friends\, Paint n Paradox is the perfect blen
 d of artistic expression and mind-expanding fun. Don’t miss out on this 
 engaging event that’s equal parts fascinating and fun.\n\nGET TICKETS\n
ATTACH;FMTTYPE=image/jpeg:https://breathemiami.us/wp-content/uploads/2024/
 10/Paint-n-Paradox.jpg
CATEGORIES:Things To Do
LOCATION:Paradox Museum Miami\,  2301 N Miami Ave\, Miami\, Florida\, 33127
 \, FL\, United States
X-APPLE-STRUCTURED-LOCATION;VALUE=URI;X-ADDRESS= 2301 N Miami Ave\, Miami\,
  Florida\, 33127\, FL\, United States;X-APPLE-RADIUS=100;X-TITLE=Paradox M
 useum Miami:geo:0,0
END:VEVENT
BEGIN:VTIMEZONE
TZID:America/New_York
X-LIC-LOCATION:America/New_York
BEGIN:DAYLIGHT
DTSTART:20240310T030000
TZOFFSETFROM:-0500
TZOFFSETTO:-0400
TZNAME:EDT
END:DAYLIGHT
END:VTIMEZONE
END:VCALENDAR