BEGIN:VCALENDAR
VERSION:2.0
PRODID:-//wp-events-plugin.com//7.2.3.1//EN
TZID:America/New_York
X-WR-TIMEZONE:America/New_York
BEGIN:VEVENT
UID:1163@breathemiami.us
DTSTART;TZID=America/New_York;VALUE=DATE:20241123
DTEND;TZID=America/New_York;VALUE=DATE:20241124
DTSTAMP:20241023T115931Z
URL:https://breathemiami.us/events/orange-bowl-family-fall-fest/
SUMMARY:Orange Bowl Family Fall Fest
DESCRIPTION:The Orange Bowl Family Fall Fest\, proudly presented by Amerant
  Bank\, invites families to join in a heartfelt celebration on Saturday\, 
 November 23\, at Harris Field Park in Homestead. This annual event embodie
 s the spirit of the season\, focusing on community connection and the joy 
 of giving.\n\nBeginning at 9:00 a.m.\, attendees can look forward to a vib
 rant array of activities designed for all ages. Families can partake in fr
 ee turkey distributions\, ensuring that everyone has the opportunity to en
 joy a delicious holiday meal. The festival also features a kids’ fun zon
 e\, filled with games and activities that promise to entertain the little 
 ones while parents relax and enjoy the festivities.\n\nLive entertainment 
 and music will fill the air\, creating a festive atmosphere that encourage
 s community bonding and celebration. Exciting giveaways will keep the ener
 gy high throughout the day\, adding an extra layer of fun to the experienc
 e.\n\nThe Orange Bowl Family Fall Fest not only offers a day of enjoyment 
 but also reinforces the importance of giving back and celebrating together
  as a community. Families are encouraged to come out\, connect\, and enjoy
  the warmth of the season while creating cherished memories.\n\nGET TICKET
 S\n
ATTACH;FMTTYPE=image/jpeg:https://breathemiami.us/wp-content/uploads/2024/
 10/Orange-Bowl-Family-Fall-Fest.webp
CATEGORIES:Things To Do
LOCATION:Harris Field Park\,  14360 NW 77th Court 1034 NE 8th St\, Miami\, 
 Florida\, 33030\,  FL \, United States
X-APPLE-STRUCTURED-LOCATION;VALUE=URI;X-ADDRESS= 14360 NW 77th Court 1034 N
 E 8th St\, Miami\, Florida\, 33030\,  FL \, United States;X-APPLE-RADIUS=1
 00;X-TITLE=Harris Field Park:geo:0,0
END:VEVENT
BEGIN:VTIMEZONE
TZID:America/New_York
X-LIC-LOCATION:America/New_York
BEGIN:STANDARD
DTSTART:20241103T010000
TZOFFSETFROM:-0400
TZOFFSETTO:-0500
TZNAME:EST
END:STANDARD
END:VTIMEZONE
END:VCALENDAR