BEGIN:VCALENDAR
VERSION:2.0
PRODID:-//wp-events-plugin.com//7.2.3.1//EN
TZID:America/New_York
X-WR-TIMEZONE:America/New_York
BEGIN:VEVENT
UID:602@breathemiami.us
DTSTART;TZID=America/New_York:20240720T063000
DTEND;TZID=America/New_York:20240720T183000
DTSTAMP:20240704T151448Z
URL:https://breathemiami.us/events/nucleus-nirvana-summer-sizzle-sweat-exp
 erience/
SUMMARY:Nucleus Nirvana Summer Sizzle & Sweat Experience
DESCRIPTION:Kick off your summer with the ultimate fitness event at Nucleus
  Nirvana Summer Sizzle &amp\; Sweat! Join us on Saturday\, July 20\, 2024\
 , at Nucleus Hub Coconut Grove for a day packed with energy\, fun\, and we
 llness.\n\nEvent Highlights:\n\n 	Diverse Workout Classes: Engage in nine 
 different workout sessions tailored for all fitness levels. Whether you're
  a beginner or an enthusiast\, there's something for everyone to get movin
 g and sweating.\n 	Health Talks: Gain valuable insights from health expert
 s during our informative talks. Learn about the latest trends in fitness\,
  nutrition\, and overall well-being.\n 	Recovery Lounge: Take a break and 
 relax in our outdoor and indoor recovery lounges. Rejuvenate your body and
  mind with soothing activities and treatments.\n 	Content Hub: Capture you
 r favorite moments at our dedicated content hub. Share your experiences wi
 th friends and family and create lasting memories.\n 	Local Bites: Savor d
 elicious offerings from local vendors. Enjoy a variety of healthy snacks a
 nd refreshments to keep you energized throughout the day.\n\nSpecial Offer
 :\n\nBe among the first 50 people to sign up and receive a duffle bag full
  of goodies! This exclusive gift is packed with fitness essentials and sur
 prises to enhance your experience.\n\nWhy Attend?\n\nThe Nucleus Nirvana S
 ummer Sizzle &amp\; Sweat Experience is more than just a fitness event\; i
 t's a celebration of health\, community\, and summer fun. Whether you're l
 ooking to challenge yourself\, learn something new\, or simply enjoy a day
  out\, this event promises an unforgettable experience.\n\nSecure Your Spo
 t:\n\nDon't miss out on this exciting opportunity to kickstart your summer
  with fitness and fun. Reserve your spot today and join us for an extraord
 inary day at Nucleus Hub Coconut Grove. Get ready to sizzle\, sweat\, and 
 celebrate at Nucleus Nirvana!\n\nGET TICKETS\n
ATTACH;FMTTYPE=image/jpeg:https://breathemiami.us/wp-content/uploads/2024/
 07/Nucleus-Nirvana-Summer-Sizzle-Sweat-Experience.jpg
CATEGORIES:Food &amp; Drink Events,Mindfulness Events,Sports &amp; Fitness
 Events,Things To Do,Wellness Events
LOCATION:Nucleus Hub Coconut Grove\, 3141 Southwest 27th Avenue\, Miami\, F
 lorida\, 33133\,  FL \, United States
X-APPLE-STRUCTURED-LOCATION;VALUE=URI;X-ADDRESS=3141 Southwest 27th Avenue\
 , Miami\, Florida\, 33133\,  FL \, United States;X-APPLE-RADIUS=100;X-TITL
 E=Nucleus Hub Coconut Grove:geo:0,0
END:VEVENT
BEGIN:VTIMEZONE
TZID:America/New_York
X-LIC-LOCATION:America/New_York
BEGIN:DAYLIGHT
DTSTART:20240310T030000
TZOFFSETFROM:-0500
TZOFFSETTO:-0400
TZNAME:EDT
END:DAYLIGHT
END:VTIMEZONE
END:VCALENDAR