BEGIN:VCALENDAR
VERSION:2.0
PRODID:-//wp-events-plugin.com//7.2.3.1//EN
TZID:America/New_York
X-WR-TIMEZONE:America/New_York
BEGIN:VEVENT
UID:1130@breathemiami.us
DTSTART;TZID=America/New_York:20241104T183000
DTEND;TZID=America/New_York:20241104T193000
DTSTAMP:20241023T060713Z
URL:https://breathemiami.us/events/november-nature-craft-diy-wood-burning-
 thanksgiving-cheese-board/
SUMMARY:November Nature Craft- DIY Wood Burning Thanksgiving Cheese Board
DESCRIPTION:Unleash your creativity this holiday season by joining us for a
 n exciting hands-on Nature Craft Workshop on Monday\, November 4\, 2024\, 
 at 6:30 PM! In this unique event\, you'll learn the art of wood-burning an
 d create a personalized\, handcrafted Thanksgiving cheese board to impress
  your guests or gift to a loved one.\n\nWhether you're a crafting novice o
 r a seasoned artisan\, our expert instructors will guide you through the e
 ntire process. You'll learn to use stencils\, wood-burning tools\, and spe
 cial finishing wax to design a one-of-a-kind cheese board\, perfect for sh
 owcasing your artistic flair at any holiday gathering.\nWorkshop Highlight
 s:\n\n 	Date: Monday\, November 4\, 2024\n 	Time: 6:30 PM\n 	Location: Coz
 y in-person venue\n 	Project: Create a custom wood-burned Thanksgiving che
 ese board\n 	Techniques: Use stencils\, wood burners\, and wax to personal
 ize your piece\n 	Atmosphere: Relaxed\, friendly\, and open to all ages—
 adults and children alike\n\nIn this warm and welcoming environment\, you'
 ll enjoy a fun\, interactive evening filled with creativity and learning. 
 This event is suitable for everyone\, whether you're looking to make somet
 hing special for your Thanksgiving table or simply want to explore a new c
 raft.\nMonthly Nature Craft Series:\nLove crafting with natural materials?
  Mark your calendars because this is just the beginning! Our Nature Craft 
 Workshops are hosted on the first Monday of every month\, offering a varie
 ty of exciting DIY projects that celebrate the beauty of nature.\n\nDon’
 t miss this chance to create something unique and memorable. Book your spo
 t today and prepare to dive into the world of wood-burning crafts—a perf
 ect way to add a personal touch to your Thanksgiving celebrations!\n\nGET 
 TICKETS\n
ATTACH;FMTTYPE=image/jpeg:https://breathemiami.us/wp-content/uploads/2024/
 10/November-Nature-Craft-DIY-Wood-Burning-Thanksgiving-Cheese-Board.jpg
CATEGORIES:Food &amp; Drink Events,Nature Events,Things To Do
LOCATION:Doral Glades Park\, 7600 Northwest 98 Place Doral\, Miami\, Florid
 a\, 33178\,  FL \, United States
X-APPLE-STRUCTURED-LOCATION;VALUE=URI;X-ADDRESS=7600 Northwest 98 Place Dor
 al\, Miami\, Florida\, 33178\,  FL \, United States;X-APPLE-RADIUS=100;X-T
 ITLE=Doral Glades Park:geo:0,0
END:VEVENT
BEGIN:VTIMEZONE
TZID:America/New_York
X-LIC-LOCATION:America/New_York
BEGIN:STANDARD
DTSTART:20241103T010000
TZOFFSETFROM:-0400
TZOFFSETTO:-0500
TZNAME:EST
END:STANDARD
END:VTIMEZONE
END:VCALENDAR