BEGIN:VCALENDAR
VERSION:2.0
PRODID:-//wp-events-plugin.com//7.2.3.1//EN
TZID:America/New_York
X-WR-TIMEZONE:America/New_York
BEGIN:VEVENT
UID:1150@breathemiami.us
DTSTART;TZID=America/New_York:20241123T093000
DTEND;TZID=America/New_York:20241123T103000
DTSTAMP:20241023T092214Z
URL:https://breathemiami.us/events/nourish-zen-yoga-flow/
SUMMARY:Nourish Zen Yoga Flow
DESCRIPTION:Welcome to the Nourish Zen Yoga Flow event—a peaceful and rev
 italizing yoga session in the serene surroundings of Morningside Park. Joi
 n us for a morning of mindful movement\, open to all levels\, where you ca
 n reconnect with yourself and nature. This in-person gathering will take p
 lace at the far end of the park\, next to LOT 4\, offering a tranquil spac
 e for practice.\n\nWhether you're an experienced yogi or new to yoga\, thi
 s event is designed to help everyone find balance and clarity. You’ll fl
 ow through a series of poses that center the mind and strengthen the body\
 , leaving you feeling refreshed and grounded.\n\nWhat to Bring:\n\n 	Yoga 
 Mat: For your personal space and comfort.\n 	Water Bottle: Stay hydrated t
 hroughout the practice.\n 	Positive Energy: Come ready to connect with the
  community and embrace the zen of nature.\n\nThis is a wonderful opportuni
 ty to step away from the hustle of daily life\, find your flow\, and conne
 ct with like-minded individuals in a beautiful outdoor setting.\n\nSuggest
 ed Energy Exchange:\nA contribution of $10 is recommended to support the s
 ession\, making it accessible and community-focused.\n\nLocation &amp\; De
 tails: 📍 Morningside Park\, next to LOT 4\n🗓️ Date: [Insert Date H
 ere]\n🕒 Time: [Insert Time Here]\n\nWhether you're seeking relaxation\,
  mindfulness\, or a sense of community\, this event is the perfect chance 
 to nurture your mind\, body\, and soul. We can’t wait to share this zen-
 filled morning with you in nature!\n\nInstagram:\nFollow us at @nourishzen
 yoga for updates and to connect with our growing community!\n\nGET TICKETS
 \n
ATTACH;FMTTYPE=image/jpeg:https://breathemiami.us/wp-content/uploads/2024/
 10/Nourish-Zen-Yoga-Flow.jpg
CATEGORIES:Yoga Events
LOCATION:Morningside Park\, 750 Northeast 55th Terrace\, Miami\, Florida\, 
 33137\, FL\, United States
X-APPLE-STRUCTURED-LOCATION;VALUE=URI;X-ADDRESS=750 Northeast 55th Terrace\
 , Miami\, Florida\, 33137\, FL\, United States;X-APPLE-RADIUS=100;X-TITLE=
 Morningside Park:geo:0,0
END:VEVENT
BEGIN:VTIMEZONE
TZID:America/New_York
X-LIC-LOCATION:America/New_York
BEGIN:STANDARD
DTSTART:20241103T010000
TZOFFSETFROM:-0400
TZOFFSETTO:-0500
TZNAME:EST
END:STANDARD
END:VTIMEZONE
END:VCALENDAR