BEGIN:VCALENDAR
VERSION:2.0
PRODID:-//wp-events-plugin.com//7.2.3.1//EN
TZID:America/New_York
X-WR-TIMEZONE:America/New_York
BEGIN:VEVENT
UID:919@breathemiami.us
DTSTART;TZID=America/New_York:20241005T100000
DTEND;TZID=America/New_York:20241012T220000
DTSTAMP:20240929T103949Z
URL:https://breathemiami.us/events/nourish-flourish-wellness-retreat/
SUMMARY:Nourish & Flourish Wellness Retreat
DESCRIPTION:Prepare to rejuvenate your mind\, body\, and spirit at the Nour
 ish &amp\; Flourish Wellness Retreat in the serene paradise of Bali. Set f
 rom October 5 to October 12\, 2024\, this retreat offers a deeply enrichin
 g experience for those seeking inner balance and personal growth.\nIf you 
 are ready to:\n\n 	Rejuvenate yourself through a balanced fusion of nouris
 hing experiences and mindful practices that awaken your vitality.\n 	Retre
 at from the hustle and stress of daily life into a peaceful sanctuary that
  will guide you towards self-awareness and personal empowerment.\n 	Renew 
 your sense of clarity\, purpose\, and well-being\, embracing a lifestyle t
 hat fosters balance and flourishing.\n\nThen\, this transformative retreat
  is designed for you!\nWhat You’ll Experience:\nThe Nourish &amp\; Flour
 ish Wellness Retreat is a sacred space where women come together to suppor
 t each other in increasing joy\, peace\, and rejuvenation. Through a blend
  of holistic practices\, workshops\, and community connection\, you'll eng
 age in powerful self-discovery while developing practical strategies for g
 rowth and well-being.\n\nWhether through yoga\, meditation\, or reflective
  activities\, each day will provide an opportunity to restore your energy\
 , deepen your self-awareness\, and align your life with your true purpose.
  You’ll be surrounded by the natural beauty of Bali\, offering the perfe
 ct backdrop for your journey of renewal.\n\nBy the end of the retreat\, yo
 u’ll return home with a refreshed sense of vitality\, feeling empowered 
 to live a balanced\, flourishing life that supports your physical\, emotio
 nal\, and spiritual health.\n\nJoin us in Bali\, and take the first step t
 owards a more joyful\, connected\, and vibrant life.\n\nGET TICKETS\n
ATTACH;FMTTYPE=image/jpeg:https://breathemiami.us/wp-content/uploads/2024/
 09/Nourish-Flourish-Wellness-Retreat.jpg
CATEGORIES:Retreats Events,Things To Do
LOCATION:Fort Lauderdale\, 5300 Woodlands Boulevard Tamarac\, Miami\, Flori
 da\, 33319\, FL\, United States
X-APPLE-STRUCTURED-LOCATION;VALUE=URI;X-ADDRESS=5300 Woodlands Boulevard Ta
 marac\, Miami\, Florida\, 33319\, FL\, United States;X-APPLE-RADIUS=100;X-
 TITLE=Fort Lauderdale:geo:0,0
END:VEVENT
BEGIN:VTIMEZONE
TZID:America/New_York
X-LIC-LOCATION:America/New_York
BEGIN:DAYLIGHT
DTSTART:20240310T030000
TZOFFSETFROM:-0500
TZOFFSETTO:-0400
TZNAME:EDT
END:DAYLIGHT
END:VTIMEZONE
END:VCALENDAR