BEGIN:VCALENDAR
VERSION:2.0
PRODID:-//wp-events-plugin.com//7.2.3.1//EN
TZID:America/New_York
X-WR-TIMEZONE:America/New_York
BEGIN:VEVENT
UID:1109@breathemiami.us
DTSTART;TZID=America/New_York:20241027T150000
DTEND;TZID=America/New_York:20241027T190000
DTSTAMP:20241018T055658Z
URL:https://breathemiami.us/events/not-today-cancer/
SUMMARY:NOT TODAY CANCER
DESCRIPTION:The community is invited to rally together for the "NOT TODAY C
 ANCER" event\, taking place at The Katz Restaurant and Lounge. This specia
 l evening promises an atmosphere of camaraderie and purpose as attendees u
 nite to raise awareness and funds for cancer initiatives.\n\nGuests are en
 couraged to bring their friends and family for an unforgettable night fill
 ed with live music\, delectable cuisine\, and inspiring narratives from th
 ose whose lives have been touched by cancer. The evening aims to empower p
 articipants\, fostering a sense of solidarity against a common adversary
 —cancer.\n\nThroughout the night\, guests will enjoy a variety of musica
 l performances\, delectable dishes\, and heartfelt speeches that highlight
  the resilience and courage of individuals facing cancer. This event serve
 s not only as a fundraiser but also as a beacon of hope\, illustrating the
  power of community in the face of adversity.\n\nAttendees will have the o
 pportunity to connect with others who share their passion for making a dif
 ference\, creating an environment where hope flourishes and support is abu
 ndant. Together\, they will send a powerful message: cancer has chosen the
  wrong crowd.\n\nThis is more than just a social gathering\; it’s a call
  to action. Everyone is invited to join in this important fight against ca
 ncer and contribute to a cause that affects so many lives. Don’t miss yo
 ur chance to be part of this impactful evening! Your presence can help bri
 ng hope to those battling cancer and inspire change in the community. We l
 ook forward to seeing you there!\n\n\nGET TICKETS\n\n
ATTACH;FMTTYPE=image/jpeg:https://breathemiami.us/wp-content/uploads/2024/
 10/NOT-TODAY-CANCER.jpg
CATEGORIES:Things To Do
LOCATION:The Katz Restaurant and Lounge\, 738 Northeast 125th Street North 
 Miami\, Miami\, Florida\, 33161\, FL\, United States
X-APPLE-STRUCTURED-LOCATION;VALUE=URI;X-ADDRESS=738 Northeast 125th Street 
 North Miami\, Miami\, Florida\, 33161\, FL\, United States;X-APPLE-RADIUS=
 100;X-TITLE=The Katz Restaurant and Lounge:geo:0,0
END:VEVENT
BEGIN:VTIMEZONE
TZID:America/New_York
X-LIC-LOCATION:America/New_York
BEGIN:DAYLIGHT
DTSTART:20240310T030000
TZOFFSETFROM:-0500
TZOFFSETTO:-0400
TZNAME:EDT
END:DAYLIGHT
END:VTIMEZONE
END:VCALENDAR