BEGIN:VCALENDAR
VERSION:2.0
PRODID:-//wp-events-plugin.com//7.2.3.1//EN
TZID:America/New_York
X-WR-TIMEZONE:America/New_York
BEGIN:VEVENT
UID:843@breathemiami.us
DTSTART;TZID=America/New_York:20241019T190000
DTEND;TZID=America/New_York:20241019T220000
DTSTAMP:20240910T073023Z
URL:https://breathemiami.us/events/nocturnal-villains-and-vixens/
SUMMARY:Nocturnal: Villains and Vixens
DESCRIPTION:Kick off your Halloween celebrations with a thrilling evening a
 t Zoo Miami’s Nocturnal: Villains and Vixens on Saturday\, October 19. T
 his exclusive 21+ event transforms the zoo into a vibrant playground of en
 tertainment\, dining\, and immersive performances from 7:00 PM to midnight
 .\n\nAttendees are encouraged to don their most creative villain or vixen 
 costumes for a night filled with:\n\n 	Gourmet Food Stations: Delight in a
  variety of delectable dishes prepared by top chefs.\n 	Exclusive Cocktail
 s and Premium Beverages: Sip on crafted cocktails and enjoy high-end drink
 s throughout the night.\n 	Mystical Experiences: Discover your fate with t
 arot card readings and palm readings by skilled practitioners.\n 	Spectacu
 lar Performances: Be mesmerized by sultry burlesque acts\, captivating fir
 e dancers\, and a thrilling mechanical spider ride.\n 	Costume Contest: Co
 mpete for a chance to win up to $300 in prizes with your standout costume.
 \n 	Photo Booth: Capture unforgettable moments with themed photo ops.\n 	A
 nimal Encounters: Enjoy special interactions with some of the zoo’s resi
 dents\, although many animals may not be on exhibit due to the event’s l
 imited footprint.\n\nPlease note that this event will feature a restricted
  area of the zoo\, and not all animal habitats will be accessible. Don’t
  miss out on this enchanting evening filled with excitement and intrigue. 
 Secure your tickets now and prepare for a night of sinister fun and fabulo
 us festivities!\n\nGET TICKETS\n
ATTACH;FMTTYPE=image/jpeg:https://breathemiami.us/wp-content/uploads/2024/
 09/Nocturnal-Villains-and-Vixens-1-scaled.jpg
CATEGORIES:Things To Do
LOCATION:Zoo Miami\, 12400 SW 152nd St.\, Miami\, Florida\, 33177\, FL\, Un
 ited States
X-APPLE-STRUCTURED-LOCATION;VALUE=URI;X-ADDRESS=12400 SW 152nd St.\, Miami\
 , Florida\, 33177\, FL\, United States;X-APPLE-RADIUS=100;X-TITLE=Zoo Miam
 i:geo:0,0
END:VEVENT
BEGIN:VTIMEZONE
TZID:America/New_York
X-LIC-LOCATION:America/New_York
BEGIN:DAYLIGHT
DTSTART:20240310T030000
TZOFFSETFROM:-0500
TZOFFSETTO:-0400
TZNAME:EDT
END:DAYLIGHT
END:VTIMEZONE
END:VCALENDAR