BEGIN:VCALENDAR
VERSION:2.0
PRODID:-//wp-events-plugin.com//7.2.3.1//EN
TZID:America/New_York
X-WR-TIMEZONE:America/New_York
BEGIN:VEVENT
UID:139@breathemiami.us
DTSTART;TZID=America/New_York:20231026T190000
DTEND;TZID=America/New_York:20231026T220000
DTSTAMP:20231014T205218Z
URL:https://breathemiami.us/events/no-way-out-miami-insomnia/
SUMMARY:No Way Out Miami-Insomnia
DESCRIPTION:No Way Out\, the most spine-chilling Halloween event in the cit
 y\, promises an unparalleled experience that will leave you breathless wit
 h terror. Step into a realm of horror and suspense like no other\, where i
 mmersive sets and live actors will transport you to a nightmarish world.\n
 \nBut the horror doesn't end when you exit the haunt. This year\, we've in
 troduced a unique twist that sets us apart from any other haunted attracti
 on in Florida. After surviving the scares\, you'll find yourself in our al
 l-new Monster's Lounge\, providing a perfect opportunity to catch your bre
 ath. Here\, you can unwind with drinks\, enjoy music\, and even grab a sat
 isfying bite to eat.\n\nOur strategic location takes center stage at the m
 ain entrance of the mall\, effectively taking over the former TGIF Fridays
  spot and becoming the new focal point of the entrance. It's the perfect p
 lace to start your chilling adventure.\n\nRest assured\, safety is our pri
 ority. No Way Out is a haunted attraction where you won't be touched by an
 y actors during your walk-through experience. All ages are welcome\, but d
 ue to the nature of the event\, parental discretion is strongly advised. J
 oin us for a night of unparalleled fright and fun!\n\nGet Tickets!
ATTACH;FMTTYPE=image/jpeg:https://breathemiami.us/wp-content/uploads/2023/
 10/https___cdn.evbuc_.com_images_591790049_472572833733_1_original.jpg
LOCATION:Dolphin Mall\, 11401 Northwest 12th Street- Space E515\, Miami\, F
 lorida\, FL 33172\, United States
X-APPLE-STRUCTURED-LOCATION;VALUE=URI;X-ADDRESS=11401 Northwest 12th Street
 - Space E515\, Miami\, Florida\, FL 33172\, United States;X-APPLE-RADIUS=1
 00;X-TITLE=Dolphin Mall:geo:0,0
END:VEVENT
BEGIN:VTIMEZONE
TZID:America/New_York
X-LIC-LOCATION:America/New_York
BEGIN:DAYLIGHT
DTSTART:20230312T030000
TZOFFSETFROM:-0500
TZOFFSETTO:-0400
TZNAME:EDT
END:DAYLIGHT
END:VTIMEZONE
END:VCALENDAR