BEGIN:VCALENDAR
VERSION:2.0
PRODID:-//wp-events-plugin.com//7.2.3.1//EN
TZID:America/New_York
X-WR-TIMEZONE:America/New_York
BEGIN:VEVENT
UID:838@breathemiami.us
DTSTART;TZID=America/New_York:20241018T100000
DTEND;TZID=America/New_York:20241020T200000
DTSTAMP:20240910T062248Z
URL:https://breathemiami.us/events/nightmare-weekend-miami/
SUMMARY:Nightmare Weekend Miami
DESCRIPTION:Get ready for a heart-pounding weekend of chills\, thrills\, an
 d non-stop entertainment at Nightmare Weekend Miami! From October 18 to 20
 \, the Miami Airport Convention Center transforms into a haven for horror 
 fans\, offering an unforgettable three-day experience packed with frightfu
 l fun.\n\nHorror enthusiasts will have the chance to meet iconic celebriti
 es and voice actors from legendary films like Friday the 13th\, Hocus Pocu
 s\, The Shining\, and American Werewolf in London. Take part in intimate Q
 &amp\;A sessions\, snag autographs\, and capture photo ops with your favor
 ite stars.\n\nStep into the action by joining cosplay competitions\, where
  creativity meets horror. Cash prizes await those with the best costumes\,
  and the Cosplay Lounge offers a dedicated space for photo shoots with pro
 fessional backdrops and custom sets. Whether you're new to cosplay or a se
 asoned pro\, this is your moment to shine.\n\nWith over 100 hours of progr
 amming\, there's never a dull moment at Nightmare Weekend Miami. Dive into
  panel discussions\, live performances\, horror-comedy shows\, screenings\
 , and interactive fan discussions. Explore the exhibit hall filled with un
 ique horror-themed merchandise and collectibles\, perfect for any fan of t
 he genre.\n\nFor those who love ink\, Tattoo Row will host talented artist
 s ready to create flash and custom designs on-site\, adding a lasting meme
 nto to your experience.\n\nAs the sun sets\, the thrills continue. Don’t
  miss out on after-dark events like themed parties\, raves\, and exclusive
  ticketed experiences. Adult fans can also indulge in the 18+ events\, inc
 luding the Cosplay Cabaret and a lively screening of The Rocky Horror Pict
 ure Show.\n\nGamers can enjoy a range of tabletop and video game tournamen
 ts in the Gaming Zone\, while younger horror fans will find a haven in the
  Family Zone\, featuring craft-making\, art projects\, and kid-friendly ac
 tivities.\n\nWhether you're a seasoned horror aficionado or simply in sear
 ch of Halloween fun\, Nightmare Weekend Miami promises something for every
 one. Be prepared for a weekend of terror\, excitement\, and unforgettable 
 memories!\n\nGET TICKETS\n
ATTACH;FMTTYPE=image/jpeg:https://breathemiami.us/wp-content/uploads/2024/
 09/Nightmare-Weekend-Miami.webp
CATEGORIES:Things To Do
LOCATION:Miami Airport Convention Center (MACC)\,  711 NW 72nd Ave\, Miami\
 , Florida\, 33126\, FL\, United States
X-APPLE-STRUCTURED-LOCATION;VALUE=URI;X-ADDRESS= 711 NW 72nd Ave\, Miami\, 
 Florida\, 33126\, FL\, United States;X-APPLE-RADIUS=100;X-TITLE=Miami Airp
 ort Convention Center (MACC):geo:0,0
END:VEVENT
BEGIN:VTIMEZONE
TZID:America/New_York
X-LIC-LOCATION:America/New_York
BEGIN:DAYLIGHT
DTSTART:20240310T030000
TZOFFSETFROM:-0500
TZOFFSETTO:-0400
TZNAME:EDT
END:DAYLIGHT
END:VTIMEZONE
END:VCALENDAR