BEGIN:VCALENDAR
VERSION:2.0
PRODID:-//wp-events-plugin.com//7.2.3.1//EN
TZID:America/New_York
X-WR-TIMEZONE:America/New_York
BEGIN:VEVENT
UID:295@breathemiami.us
DTSTART;TZID=America/New_York:20240101T120000
DTEND;TZID=America/New_York:20240101T180000
DTSTAMP:20231227T204216Z
URL:https://breathemiami.us/events/new-year-wellness-renewal/
SUMMARY:New Year Wellness Renewal
DESCRIPTION:Event Information:\n\n\n\n\n\n\n\n\n\n\n\n\n\n\n\n\nEmbrace the
  dawn of the New Year with a revitalizing half-day retreat\, carefully cra
 fted to immerse you in the transformative trio of yoga\, nourishing cuisin
 e\, and rejuvenating rest. Join us in establishing the foundation for a ye
 ar marked by vibrant health and wellness—setting the stage for positive\
 , sustainable patterns in 2024. Step into the new year with intention\, ba
 lance\, and a commitment to your well-being.\n\n\n\n\n\n\n\n\n\n\n\n\n\n\n
 \n\nDate and Time:Monday\, January 1\, 2024 · 12 - 6pm PST\n\n\n\n\n\nAbo
 ut this event:\n\n\n\n\n\n 	Embrace a fresh start in 2024 by immersing you
 rself in a rejuvenating half-day retreat at the Vintners Resort. This holi
 stic experience\, curated by Revolution Yoga and Vilavita Spa\, combines y
 oga\, healthy eating\, and relaxation to establish positive patterns for t
 he new year.\n\nTotal Duration: 6 hour\n\nTicket Information:\n\n 	Secure 
 your spot for this transformative retreat. Contact the organizer to reques
 t a refund if needed\, keeping in mind that Eventbrite's fee is nonrefunda
 ble.\n 	Access your ticket conveniently through a Mobile eTicket.\n\n\nGET
  TICKETS\n\n\nWorkout Session Details:\n\n 	Embark on a day of health\, we
 llness\, and intention-setting with the following activities:\n\n 	Yoga &a
 mp\; Cacao Ceremony: Connect mind and body in a harmonious blend of yoga a
 nd a ceremonial cacao experience.\n 	Nourishing Bites &amp\; Chef Talk: Ex
 plore the intersection of delicious\, healthy food and insights on balanci
 ng your diet through the New Year.\n 	Sound Bath &amp\; Yin Yoga: Indulge 
 in a sensory experience with a sound bath and the gentle practice of Yin Y
 oga.\n\n\n\nEssentials to Bring:\n\n 	Yoga Mat: Please bring your own yoga
  mat.\n 	Props: Feel free to bring any props that enhance your practice.\n
  	Comfortable Attire: Dress in comfortable clothing suitable for movement 
 and relaxation.\n\nParking Options:\n\n 	Venue Address: Vintners Resort\, 
 4350 Barnes Road\, Santa Rosa\, CA 95403.\n 	Plan your transportation and 
 parking arrangements accordingly for a seamless arrival.\n
ATTACH;FMTTYPE=image/jpeg:https://breathemiami.us/wp-content/uploads/2023/
 12/https___cdn.evbuc_.com_images_615801859_1367128575393_1_original.jpg
CATEGORIES:Wellness Events,Yoga Events
LOCATION:Vintners Resort\, 4350 Barnes Road Santa Rosa\, \, Santa Rose \, U
 nited State\, 95403\, CA\, United States
X-APPLE-STRUCTURED-LOCATION;VALUE=URI;X-ADDRESS=4350 Barnes Road Santa Rosa
 \, \, Santa Rose \, United State\, 95403\, CA\, United States;X-APPLE-RADI
 US=100;X-TITLE=Vintners Resort:geo:0,0
END:VEVENT
BEGIN:VTIMEZONE
TZID:America/New_York
X-LIC-LOCATION:America/New_York
BEGIN:STANDARD
DTSTART:20231105T010000
TZOFFSETFROM:-0400
TZOFFSETTO:-0500
TZNAME:EST
END:STANDARD
END:VTIMEZONE
END:VCALENDAR