BEGIN:VCALENDAR
VERSION:2.0
PRODID:-//wp-events-plugin.com//7.2.3.1//EN
TZID:America/New_York
X-WR-TIMEZONE:America/New_York
BEGIN:VEVENT
UID:628@breathemiami.us
DTSTART;TZID=America/New_York:20240804T190000
DTEND;TZID=America/New_York:20240804T213000
DTSTAMP:20240718T102633Z
URL:https://breathemiami.us/events/new-moon-womens-circle/
SUMMARY:New Moon Women's Circle
DESCRIPTION:Join a transformative Women's Circle Gathering\, a journey of s
 elf-discovery and empowerment\, while connecting with other inspiring wome
 n.\n\nDuring this special event\, participants will delve into the profoun
 d connection between women's cycles and lunar rhythms. Led by Lisa Love an
 d Laura Guiral\, attendees will learn to harness their inner energy as cre
 ators\, tapping into the powerful synergy of the new moon.\n\nWhat to Expe
 ct:\n\n 	Somatic Work: Engage in body-centered practices to release tensio
 n\, aligning with the energy of the new moon and the eclipse.\n 	Sound Hea
 ling: Experience the soothing vibrations of sound to promote deep healing 
 and relaxation.\n 	Sacred Cacao Ceremony: Participate in a sacred cacao ce
 remony to tap into deep wells of gratitude and connection.\n\nThe gatherin
 g will also feature a unique and intimate group steaming session\, aimed a
 t releasing energies that are no longer needed from the body.\n\nThis even
 t provides a safe and supportive space for all women to come together\, sh
 are\, and explore their inner wisdom. Whether you are new to women's circl
 es or a seasoned participant\, this gathering promises to be an empowering
  and enriching experience.\n\nBring a friend and embrace the magic of wome
 n's energy in this exciting and intimate circle. There's so much to learn 
 from one another\, and everyone is welcome to join this empowering journey
 .\n\nGET TICKETS\n
ATTACH;FMTTYPE=image/jpeg:https://breathemiami.us/wp-content/uploads/2024/
 07/New-Moon-Womens-Circle-Gathering-for-Empowerment-and-Connection.jpg
CATEGORIES:Mindfulness Events,Things To Do,Wellness Events
LOCATION:Belle Meade Mini Park\, 775 Northeast 77th Street Miami\, Miami\, 
 Florida\, 33138\, FL \, United States
X-APPLE-STRUCTURED-LOCATION;VALUE=URI;X-ADDRESS=775 Northeast 77th Street M
 iami\, Miami\, Florida\, 33138\, FL \, United States;X-APPLE-RADIUS=100;X-
 TITLE=Belle Meade Mini Park:geo:0,0
END:VEVENT
BEGIN:VTIMEZONE
TZID:America/New_York
X-LIC-LOCATION:America/New_York
BEGIN:DAYLIGHT
DTSTART:20240310T030000
TZOFFSETFROM:-0500
TZOFFSETTO:-0400
TZNAME:EDT
END:DAYLIGHT
END:VTIMEZONE
END:VCALENDAR