BEGIN:VCALENDAR
VERSION:2.0
PRODID:-//wp-events-plugin.com//7.2.3.1//EN
TZID:America/New_York
X-WR-TIMEZONE:America/New_York
BEGIN:VEVENT
UID:232@breathemiami.us
DTSTART;TZID=America/New_York:20240107T000000
DTEND;TZID=America/New_York:20240107T000000
DTSTAMP:20240218T002300Z
URL:https://breathemiami.us/events/new-moon-kundalini-activation-in-faena/
SUMMARY:New Moon Kundalini Activation
DESCRIPTION:Event Information:\n\nEmbark on a transformative journey as you
  unleash your Kundalini Awakening\, tapping into the cosmic energy of the 
 New Moon for divine manifestations. Join Giselle Fiumara in this sacred pr
 actice\, where the dormant primal life force energy at the base of your sp
 ine is awakened. This cosmic energy rises through your chakras\, creating 
 a profound shift in consciousness\, promoting health\, wellness\, and a ha
 rmonious connection with the universe – a state known as samadhi.\n\nAll
 ow the New Moon's energy to guide you through a practice that breathes lif
 e into your Kundalini energy\, enabling it to flow seamlessly through your
  chakra system. Experience the change within as you embrace the powerful a
 wakening facilitated by Giselle Fiumara\, a dedicated Kundalini yoga instr
 uctor with 440 hours of training in India and the US.\n\nIn this session\,
  you will immerse yourself in the ancient wisdom of Kundalini\, creating a
  sacred space for spiritual growth and transformation. Join us at Faena Ho
 tel on Thursday\, January 11\, 2024\, from 7:00 to 8:30 pm EST\, as we har
 ness the cosmic forces of the New Moon for a profound Kundalini Activation
 .\n\nDon't miss this opportunity to align your energy with the celestial r
 hythms and unlock the divine manifestations that await within.\n\nDate and
  Time:Thursday\, January 11\, 2024 · 7 - 8:30pm EST\n\nAbout this event:\
 n\n 	Experience the profound process of Kundalini awakening\, harnessing t
 he cosmic energy of the New Moon for divine manifestations. Giselle Fiumar
 a\, a conscious Kundalini yoga instructor\, will guide you through a trans
 formative practice to awaken the dormant energy within. This session promi
 ses to breathe life into your Kundalini energy\, allowing it to flow throu
 gh your chakra system and leading to a change in consciousness\, health\, 
 wellness\, and a sense of oneness with the universe.\n\nDuration: 1 hour 3
 0 minutes\n\nTicket Information:\n\n 	Early Bird and General Admission ava
 ilable.\n 	Registration fees are eligible for exclusive discounts for memb
 ers: MILES PLAN ($49 per year)\, PRACTICE PLAN ($99 per month)\, ACCESS PL
 AN ($199 per month).\n 	Mindful Miles™️: Earn rewards for your spiritu
 al practice through our "frequent flier" program.\n\n\nGET TICKETS\n\n\nWo
 rkout Session Details:\n\n 	Kundalini yoga practice focused on awakening a
 nd flowing energy through the chakra system.\n 	Facilitated by Giselle Fiu
 mara\, a certified Kundalini international teacher with 440 hours of train
 ing in India and the US.\n\nEssentials to Bring:\n\n 	Refillable water bot
 tle\n 	Open heart\n\nParking Options:\n\n 	Valet parking at Faena Hotel or
  municipal lot 1 block north of Faena.\n
ATTACH;FMTTYPE=image/jpeg:https://breathemiami.us/wp-content/uploads/2023/
 12/https___cdn.evbuc_.com_images_623908589_1145507310493_1_original-1.jpg
CATEGORIES:Wellness Events,Yoga Events
LOCATION:Faena Hotel\, 3201 Collins Avenue\, Miami Beach\, FL\, 33140\, Uni
 ted States
X-APPLE-STRUCTURED-LOCATION;VALUE=URI;X-ADDRESS=3201 Collins Avenue\, Miami
  Beach\, FL\, 33140\, United States;X-APPLE-RADIUS=100;X-TITLE=Faena Hotel
 :geo:0,0
END:VEVENT
BEGIN:VTIMEZONE
TZID:America/New_York
X-LIC-LOCATION:America/New_York
BEGIN:STANDARD
DTSTART:20231105T010000
TZOFFSETFROM:-0400
TZOFFSETTO:-0500
TZNAME:EST
END:STANDARD
END:VTIMEZONE
END:VCALENDAR