BEGIN:VCALENDAR
VERSION:2.0
PRODID:-//wp-events-plugin.com//7.2.3.1//EN
TZID:America/New_York
X-WR-TIMEZONE:America/New_York
BEGIN:VEVENT
UID:669@breathemiami.us
DTSTART;TZID=America/New_York:20240804T160000
DTEND;TZID=America/New_York:20240804T173000
DTSTAMP:20240804T132603Z
URL:https://breathemiami.us/events/new-moon-gong-bath-meditation/
SUMMARY:New Moon Gong Bath & Meditation
DESCRIPTION:The upcoming New Moon\, nestled in the vibrant sign of Leo\, pr
 esents a powerful moment for renewal and intention-setting. Sacred Space M
 iami invites you to participate in the New Moon Gong Bath &amp\; Meditatio
 n\, a transformative experience designed to harness the lunar energy for p
 ersonal growth and creative expression.\n\nAs the New Moon ushers in an er
 a of new beginnings\, creativity\, and self-expression\, the deep\, resona
 nt vibrations of the gongs will facilitate a profound release of old patte
 rns and blockages. This sonic experience creates the perfect space for fre
 sh\, positive intentions to take root. The Leo energy will channel confide
 nce and a fiery spirit\, encouraging participants to embark on new venture
 s and express their authentic selves.\n\nThe gong's vibrations serve as a 
 cleansing force\, purifying the mind and spirit. This meditative practice 
 allows attendees to shed the past and embrace a path filled with renewed p
 urpose and creativity. By immersing in the gong's sound waves\, participan
 ts can align with the New Moon's energy\, fostering a sense of clarity and
  direction.\n\nSacred Space Miami looks forward to guiding attendees throu
 gh this unique journey\, helping them set forth on a path of empowerment a
 nd creative expression. Join us for an evening of profound transformation 
 and connect with the invigorating energy of the New Moon in Leo.\n\nGET TI
 CKETS\n
ATTACH;FMTTYPE=image/jpeg:https://breathemiami.us/wp-content/uploads/2024/
 08/New-Moon-Gong-Bath-Meditation.jpg
CATEGORIES:Mindfulness Events,Things To Do,Wellness Events
LOCATION:Abhaya Holistic Center\, 7313 SW 59th Ct. South Miami\,\, Avenue M
 iami\, Unitef State\, 33143 \,  FL \, United States
X-APPLE-STRUCTURED-LOCATION;VALUE=URI;X-ADDRESS=7313 SW 59th Ct. South Miam
 i\,\, Avenue Miami\, Unitef State\, 33143 \,  FL \, United States;X-APPLE-
 RADIUS=100;X-TITLE=Abhaya Holistic Center:geo:0,0
END:VEVENT
BEGIN:VTIMEZONE
TZID:America/New_York
X-LIC-LOCATION:America/New_York
BEGIN:DAYLIGHT
DTSTART:20240310T030000
TZOFFSETFROM:-0500
TZOFFSETTO:-0400
TZNAME:EDT
END:DAYLIGHT
END:VTIMEZONE
END:VCALENDAR