BEGIN:VCALENDAR
VERSION:2.0
PRODID:-//wp-events-plugin.com//7.2.3.1//EN
TZID:America/New_York
X-WR-TIMEZONE:America/New_York
BEGIN:VEVENT
UID:1060@breathemiami.us
DTSTART;TZID=America/New_York:20241017T173000
DTEND;TZID=America/New_York:20241017T193000
DTSTAMP:20241013T082357Z
URL:https://breathemiami.us/events/networking-on-the-bay-with-the-coconut-
 grove-chamber-of-commerce/
SUMMARY:Networking on the Bay with the Coconut Grove Chamber of Commerce
DESCRIPTION:The Coconut Grove Chamber of Commerce invites community members
  to an exciting evening of networking at Regatta Grove. This in-person eve
 nt offers a unique chance for local businesses and professionals to connec
 t in a picturesque setting along the bay.\n\nAttendees will have the oppor
 tunity to forge valuable relationships and expand their professional netwo
 rks\, all while enjoying the stunning waterfront views. Whether one is a s
 easoned networker or just starting out\, this gathering is designed to fos
 ter meaningful connections among like-minded individuals eager to collabor
 ate and share ideas.\n\nParticipants are encouraged to come prepared to en
 gage in vibrant conversations\, exchange insights\, and savor delicious dr
 inks in a lively atmosphere. This event not only aims to strengthen commun
 ity ties but also supports the growth of businesses in the area. Join the 
 Coconut Grove Chamber of Commerce for an evening dedicated to networking\,
  camaraderie\, and the potential for new partnerships. Raise a glass to bu
 ilding your business and cultivating lasting connections in this dynamic c
 ommunity!\n\nGET TICKETS\n
ATTACH;FMTTYPE=image/jpeg:https://breathemiami.us/wp-content/uploads/2024/
 10/Networking-on-the-Bay-with-the-Coconut-Grove-Chamber-of-Commerce.jpg
CATEGORIES:Things To Do
LOCATION:Regatta Grove\, 3415 Pan American Drive \, Miami\, Florida\, 33133
 \, FL\, United States
X-APPLE-STRUCTURED-LOCATION;VALUE=URI;X-ADDRESS=3415 Pan American Drive \, 
 Miami\, Florida\, 33133\, FL\, United States;X-APPLE-RADIUS=100;X-TITLE=Re
 gatta Grove:geo:0,0
END:VEVENT
BEGIN:VTIMEZONE
TZID:America/New_York
X-LIC-LOCATION:America/New_York
BEGIN:DAYLIGHT
DTSTART:20240310T030000
TZOFFSETFROM:-0500
TZOFFSETTO:-0400
TZNAME:EDT
END:DAYLIGHT
END:VTIMEZONE
END:VCALENDAR