BEGIN:VCALENDAR
VERSION:2.0
PRODID:-//wp-events-plugin.com//7.2.3.1//EN
TZID:America/New_York
X-WR-TIMEZONE:America/New_York
BEGIN:VEVENT
UID:383@breathemiami.us
DTSTART;TZID=America/New_York:20240420T150000
DTEND;TZID=America/New_York:20240420T180000
DTSTAMP:20240313T222043Z
URL:https://breathemiami.us/events/national-water-dance/
SUMMARY:NATIONAL WATER DANCE
DESCRIPTION:\nDance for the Oceans: National Water Dance Returns to Miami!\
 nGet ready to move your body and celebrate our precious waterways at the N
 ational Water Dance in Miami! This captivating event\, taking place on Sat
 urday\, April 20th at Crandon Park Beach\, is a powerful fusion of art and
  activism\, bringing together dance\, music\, and visual arts in a stunnin
 g beachfront performance.\nA Nationwide Celebration\, a Local Stage:\nThe 
 National Water Dance is a biannual phenomenon\, uniting communities across
  the US in a synchronized artistic expression for water conservation. This
  year\, Miami takes center stage\, showcasing the talents of its most este
 emed dance companies.\nA Performance for Every Taste:\nPrepare to be mesme
 rized by a diverse range of dance styles. From the innovative choreography
  of NWD Projects to the contemporary flair of Dance Now! Miami\, the lineu
 p promises a visually stunning performance. Olujimi Dance Collective\, Kar
 en Peterson &amp\; Dancers\, and Jubilation Dance Ensemble will add their 
 unique voices to the artistic tapestry.\nMore Than Just Dance:\nThe Nation
 al Water Dance experience extends beyond the stage. Captivating spoken wor
 d poetry by Arsimmer McCoy and a special appearance by the Miami Sound Cho
 ir will further enrich the program.\nA Full Afternoon of Celebration:\nFes
 tivities kick off at 3 PM with the Dream in Green Eco-Summit\, featuring e
 ducational activities focused on environmental awareness. Get ready for th
 e main event\, the National Water Dance\, at 4 PM.\nBut the fun doesn't st
 op there! At 5 PM\, join a beach cleanup initiative organized by Debris Fr
 ee Oceans and contribute directly to a cleaner coastline. Conclude your da
 y with a relaxing sunset Happy Hour at 6 PM\, the perfect way to unwind an
 d reflect on the day's message of environmental responsibility.\nJoin the 
 Movement:\nThe National Water Dance is more than just a performance\; it's
  a call to action. By attending this event\, you'll be raising awareness a
 bout the importance of protecting our waterways and celebrating the beauty
  of our natural world. So\, mark your calendars\, gather your friends and 
 family\, and get ready to dance for the future of our oceans!\n\n\n\nBOOK 
 NOW\n
ATTACH;FMTTYPE=image/jpeg:https://breathemiami.us/wp-content/uploads/2024/
 03/NationalWaterDance_00AD5C11-5056-A36A-0B5F510DEE1BBA6D_012e3832-5056-a3
 6a-0bc1f0e65fe5bb50.jpg
CATEGORIES:Things To Do,Wellness Events
LOCATION:Marjory Stoneman Douglas Biscayne Nature Center\, 6767 Crandon Blv
 d\, \, Key Biscayne\, \, Florida\, 33149\, United States
X-APPLE-STRUCTURED-LOCATION;VALUE=URI;X-ADDRESS=6767 Crandon Blvd\, \, Key 
 Biscayne\, \, Florida\, 33149\, United States;X-APPLE-RADIUS=100;X-TITLE=M
 arjory Stoneman Douglas Biscayne Nature Center:geo:0,0
END:VEVENT
BEGIN:VTIMEZONE
TZID:America/New_York
X-LIC-LOCATION:America/New_York
BEGIN:DAYLIGHT
DTSTART:20240310T030000
TZOFFSETFROM:-0500
TZOFFSETTO:-0400
TZNAME:EDT
END:DAYLIGHT
END:VTIMEZONE
END:VCALENDAR