BEGIN:VCALENDAR
VERSION:2.0
PRODID:-//wp-events-plugin.com//7.2.3.1//EN
TZID:America/New_York
X-WR-TIMEZONE:America/New_York
BEGIN:VEVENT
UID:792@breathemiami.us
DTSTART;TZID=America/New_York:20240925T170000
DTEND;TZID=America/New_York:20240926T010000
DTSTAMP:20240826T103255Z
URL:https://breathemiami.us/events/national-lobster-day/
SUMMARY:National Lobster Day
DESCRIPTION:Get ready to indulge in a seafood lover's paradise this Nationa
 l Lobster Day at Bar Tulio’s in Wynwood! On Wednesday\, September 25\, B
 ar Tulio’s invites you to celebrate this special day with a seafood-cent
 ric feast that’s sure to tantalize your taste buds.\n\nKnown for its vib
 rant atmosphere and culinary creativity\, Bar Tulio’s will be offering t
 heir beloved lobster tacos at an irresistible discount of $5 off each. Ima
 gine succulent\, buttery lobster wrapped in a perfectly crisp taco shell\,
  topped with fresh\, zesty ingredients that complement the rich flavors of
  the sea. Whether you're a longtime fan or trying them for the first time\
 , these lobster tacos are a must-try.\n\nBut the celebration doesn’t sto
 p there. From 5 to 7 p.m.\, take advantage of happy hour and pair your tac
 os with a refreshing cocktail\, a chilled glass of wine\, or an ice-cold b
 eer. It’s the perfect opportunity to unwind after work\, catch up with f
 riends\, or simply treat yourself to a midweek indulgence.\n\nThe lively a
 mbiance of Bar Tulio’s\, coupled with the mouthwatering menu and fantast
 ic drink specials\, ensures that this National Lobster Day will be one to 
 remember. So gather your friends\, head down to Wynwood\, and dive into a 
 culinary experience that captures the essence of the sea in every bite. Do
 n’t miss out on this flavorful celebration—Bar Tulio’s is the place 
 to be for seafood lovers this September 25!\n\nGET TICKETS\n
ATTACH;FMTTYPE=image/jpeg:https://breathemiami.us/wp-content/uploads/2024/
 08/National-Lobster-Day.jpg
CATEGORIES:Food &amp; Drink Events,Things To Do
LOCATION:Bar Tulio’s\, 2839 NW 1st Ave\, Miami\, Florida\, 33127\, FL\, U
 nited States
X-APPLE-STRUCTURED-LOCATION;VALUE=URI;X-ADDRESS=2839 NW 1st Ave\, Miami\, F
 lorida\, 33127\, FL\, United States;X-APPLE-RADIUS=100;X-TITLE=Bar Tulio
 ’s:geo:0,0
END:VEVENT
BEGIN:VTIMEZONE
TZID:America/New_York
X-LIC-LOCATION:America/New_York
BEGIN:DAYLIGHT
DTSTART:20240310T030000
TZOFFSETFROM:-0500
TZOFFSETTO:-0400
TZNAME:EDT
END:DAYLIGHT
END:VTIMEZONE
END:VCALENDAR