BEGIN:VCALENDAR
VERSION:2.0
PRODID:-//wp-events-plugin.com//7.2.3.1//EN
TZID:America/New_York
X-WR-TIMEZONE:America/New_York
BEGIN:VEVENT
UID:1116@breathemiami.us
DTSTART;TZID=America/New_York:20241031T190000
DTEND;TZID=America/New_York:20241101T030000
DTSTAMP:20241018T063506Z
URL:https://breathemiami.us/events/mystique-masqurade/
SUMMARY:Mystique Masqurade
DESCRIPTION:As the moon casts its ethereal glow over the ancient estate\, a
 n irresistible allure beckons for an extraordinary evening where shadows i
 ntertwine with light and whispers of forgotten stories linger in the air. 
 Attendees are invited to Mystique Masquerade: A High Fashion Halloween for
  the Darkly Divine\, an enchanting night where elegance and mystery unite 
 to create an unforgettable experience.\n\nThrough the creaking gates of th
 e ancestral manor\, the presence of ancient trees looms like silent guardi
 ans\, their gnarled branches reaching for the twilight sky. The air carrie
 s a heavy\, unsettling fragrance of damp earth and decay\, mingling with t
 he faint scent of memories long forgotten. This aroma guides guests along 
 dimly lit corridors\, where flickering lights reveal glimpses of the macab
 re\, emphasizing that true beauty lies within.\nEvening Highlights:\n\n 	H
 igh-Fashion Showcase: Attendees will be captivated by a hauntingly beautif
 ul display of high-fashion designs\, where each garment tells a story wove
 n from threads of darkness and enchantment. Renowned designers will unveil
  their most exquisite creations\, transforming the runway into a stage for
  gothic elegance and mysterious allure.\n 	Costume Competition: Guests are
  encouraged to embrace the spirit of the night in a costume competition\, 
 showcasing their finest gothic attire that blends sophistication with supe
 rnatural charm. Participants can vie for the title of the evening's most c
 aptivating apparition\, whether they choose to embody a vision of spectral
  beauty or a haunting creature of the night\, enchanting all who gaze upon
  them.\n 	Designer Showcase: A curated selection of garments by featured d
 esigners will be on display\, each piece a work of art that reflects theme
 s of darkness\, passion\, and allure. These creations go beyond mere cloth
 ing\; they are stories of ancient mysteries waiting to be uncovered.\n 	Ar
 t Auctions: Guests can engage in thrilling bidding wars for unique pieces 
 of dark art\, each telling a tale steeped in shadows and whispers. These h
 aunting artworks promise to add a spectral beauty to any collection.\n 	Ee
 rie Installations: Attendees are invited to explore eerie installations th
 at capture the essence of classic horror. Each setting transports visitors
  to a realm where the supernatural reigns\, blurring the lines between rea
 lity and nightmare.\n 	Live Performances: Spectators will be entranced by 
 spellbinding live performances that seamlessly blend the macabre with the 
 magnificent. Dancers\, actors\, and musicians will create a tapestry of gh
 ostly beauty\, bringing the supernatural to life with each movement and no
 te.\n 	Live Music: Haunting melodies will fill the atmosphere\, with each 
 note echoing the whispers of the beyond. The music will envelop guests lik
 e a spectral embrace\, resonating with the echoes of lost souls.\n 	Eerie 
 Eats: Culinary delights await\, crafted to tantalize the palate and immers
 e guests in the night’s gothic ambiance. Each bite will transport attend
 ees deeper into a world of flavor and enchantment.\n 	Specialty Acts: Perf
 ormers will mesmerize the audience with extraordinary acts that defy the o
 rdinary. These captivating displays channel darker spirits and create unfo
 rgettable haunts\, blending beauty with terror in ways that linger long af
 ter the night has ended.\n\nThis gathering is not merely an event\; it ser
 ves as a summons to those who find beauty in the shadows—a heartfelt inv
 itation to revel in the enchanting elegance of the dark and divine. Guests
  will dance beneath the moonlit sky\, their souls entwined in a night rich
  with mystery\, elegance\, and eerie enchantment. Join us for a night wher
 e the extraordinary awaits\, and every moment is steeped in the allure of 
 the unknown.\n\nGET TICKETS\n
ATTACH;FMTTYPE=image/jpeg:https://breathemiami.us/wp-content/uploads/2024/
 10/Mystique-Masqurade.jpg
LOCATION:Miami Beach\, Miami Beach\, Miami\, Florida\, FL\, United States
X-APPLE-STRUCTURED-LOCATION;VALUE=URI;X-ADDRESS=Miami Beach\, Miami\, Flori
 da\, FL\, United States;X-APPLE-RADIUS=100;X-TITLE=Miami Beach:geo:0,0
END:VEVENT
BEGIN:VTIMEZONE
TZID:America/New_York
X-LIC-LOCATION:America/New_York
BEGIN:DAYLIGHT
DTSTART:20240310T030000
TZOFFSETFROM:-0500
TZOFFSETTO:-0400
TZNAME:EDT
END:DAYLIGHT
END:VTIMEZONE
END:VCALENDAR