BEGIN:VCALENDAR
VERSION:2.0
PRODID:-//wp-events-plugin.com//7.2.3.1//EN
TZID:America/New_York
X-WR-TIMEZONE:America/New_York
BEGIN:VEVENT
UID:517@breathemiami.us
DTSTART;TZID=America/New_York:20240610T083000
DTEND;TZID=America/New_York:20240615T103000
DTSTAMP:20240531T103732Z
URL:https://breathemiami.us/events/mysore-season/
SUMMARY:Mysore Season
DESCRIPTION:Immerse yourself in a week-long journey of Mysore practice unde
 r the guidance of the renowned Kino Macgregor. This unique event offers pa
 rticipants the opportunity to deepen their yoga practice while receiving p
 ersonalized instruction and support from Kino herself.\n\nThe Mysore style
  practice allows practitioners to move at their own pace\, with Kino's wat
 chful gaze providing guidance and encouragement along the way. Whether you
 're a seasoned yogi or new to the practice\, this format offers a transfor
 mative experience tailored to your individual needs and abilities.\n\nIn a
 ddition to the Mysore sessions\, participants will also have the opportuni
 ty to engage in meditation and Yin classes\, providing a balanced approach
  to mind-body wellness. These practices offer moments of introspection and
  relaxation\, complementing the dynamic energy of the Mysore practice.\n\n
 As part of the Saturday ritual\, participants will come together for a con
 ference led by Kino\, where they can delve deeper into yoga philosophy\, t
 echnique\, and personal growth. This interactive session fosters community
  and connection among participants\, enriching the overall experience of t
 he Mysore season.\n\nJoin Kino Macgregor for a week of self-discovery\, gr
 owth\, and transformation. Whether you're seeking to deepen your practice 
 or simply immerse yourself in the beauty of yoga\, the Mysore season promi
 ses to be a journey of exploration and empowerment.\n\nGET TICKETS\n
ATTACH;FMTTYPE=image/jpeg:https://breathemiami.us/wp-content/uploads/2024/
 05/Mysore-Season.jpg
CATEGORIES:Yoga Events
LOCATION:Miami Yoga Garage\, 1940 NW Miami Ct Miami\, Miami\, Florida\, 331
 36\,  FL \, United States
X-APPLE-STRUCTURED-LOCATION;VALUE=URI;X-ADDRESS=1940 NW Miami Ct Miami\, Mi
 ami\, Florida\, 33136\,  FL \, United States;X-APPLE-RADIUS=100;X-TITLE=Mi
 ami Yoga Garage:geo:0,0
END:VEVENT
BEGIN:VTIMEZONE
TZID:America/New_York
X-LIC-LOCATION:America/New_York
BEGIN:DAYLIGHT
DTSTART:20240310T030000
TZOFFSETFROM:-0500
TZOFFSETTO:-0400
TZNAME:EDT
END:DAYLIGHT
END:VTIMEZONE
END:VCALENDAR