BEGIN:VCALENDAR
VERSION:2.0
PRODID:-//wp-events-plugin.com//7.2.3.1//EN
TZID:America/New_York
X-WR-TIMEZONE:America/New_York
BEGIN:VEVENT
UID:635@breathemiami.us
DTSTART;TZID=America/New_York:20240727T190000
DTEND;TZID=America/New_York:20240727T220000
DTSTAMP:20240722T191109Z
URL:https://breathemiami.us/events/museum-of-graffiti-x-d-a-d-e-collection
 -release-party-presented-by-modelo/
SUMMARY:Museum of Graffiti x D.A.D.E. Collection Release Party Presented by
  Modelo
DESCRIPTION:Museum of Graffiti has partnered with Miami’s original stree
 twear brand D.A.D.E. to curate a fashion collection that features new de
 signs by veteran Miami graffiti artists Disem\, Reds\, and Siner. The pi
 eces are all inspired by the artists’ relationship to their city. The ev
 ent will feature live art and signings as the designs will be transformed 
 into limited edition prints exclusively available at the release event. En
 joy beats by Miami's own Jimbo Slice along with a complimentary Modelo 
 bar. Please join us in celebrating this epic collab!\n\n&nbsp\;\n\nGET TI
 CKETS\n
ATTACH;FMTTYPE=image/jpeg:https://breathemiami.us/wp-content/uploads/2024/
 07/Museum_of_Graffiti_x_DADE_Collection_Release_Party_Presented_by_Modelo.
 jpeg
CATEGORIES:Things To Do
LOCATION:Museum of Graffiti\, 276 Northwest 26th Street\, Miami\, 33127-411
 6\, United States
X-APPLE-STRUCTURED-LOCATION;VALUE=URI;X-ADDRESS=276 Northwest 26th Street\,
  Miami\, 33127-4116\, United States;X-APPLE-RADIUS=100;X-TITLE=Museum of G
 raffiti:geo:0,0
END:VEVENT
BEGIN:VTIMEZONE
TZID:America/New_York
X-LIC-LOCATION:America/New_York
BEGIN:DAYLIGHT
DTSTART:20240310T030000
TZOFFSETFROM:-0500
TZOFFSETTO:-0400
TZNAME:EDT
END:DAYLIGHT
END:VTIMEZONE
END:VCALENDAR