BEGIN:VCALENDAR
VERSION:2.0
PRODID:-//wp-events-plugin.com//7.2.3.1//EN
TZID:America/New_York
X-WR-TIMEZONE:America/New_York
BEGIN:VEVENT
UID:893@breathemiami.us
DTSTART;TZID=America/New_York:20240929T150000
DTEND;TZID=America/New_York:20240929T170000
DTSTAMP:20240917T104257Z
URL:https://breathemiami.us/events/motherhood-wisdom-circle/
SUMMARY:Motherhood Wisdom Circle
DESCRIPTION:Experience a heartwarming and enlightening afternoon at the "Mo
 therhood Wisdom Circle" on September 29th\, from 3:00 PM to 5:00 PM. This 
 special event will be guided by Dr. Ieshy Pereira\, a holistic dentist ren
 owned for her dedication to nurturing maternal bonds and holistic health. 
 With her extensive knowledge and compassionate approach\, Dr. Pereira will
  lead discussions on various topics\, including teeth\, tongue ties\, lip 
 ties\, airways\, and meridians—exploring the connections between dental 
 health and overall well-being. The conversation will also be open to any a
 dditional topics that arise.\n\nHosted at The Peacemaker Studio\, this gat
 hering is designed to offer a supportive and serene space for mothers to c
 onnect\, share experiences\, and gain new insights. The circle encourages 
 the exchange of wisdom\, the exploration of new perspectives\, and the for
 ging of meaningful connections.\n\nWhether you are a new mother\, an exper
 ienced mom\, or anywhere in between\, this event provides a valuable oppor
 tunity to engage in deep conversations\, make new friends\, and celebrate 
 the journey of motherhood. Join us for an inspiring and rejuvenating after
 noon dedicated to the art of being a mother.\n\nGET TICKETS\n
ATTACH;FMTTYPE=image/jpeg:https://breathemiami.us/wp-content/uploads/2024/
 09/Motherhood-Wisdom-Circle.jpg
CATEGORIES:Things To Do,Wellness Events
LOCATION:The Peacemaker\, 8100 Southwest 81st Drive #suite 275 \, Miami\, F
 lorida\, 33143\, FL\, United States
X-APPLE-STRUCTURED-LOCATION;VALUE=URI;X-ADDRESS=8100 Southwest 81st Drive #
 suite 275 \, Miami\, Florida\, 33143\, FL\, United States;X-APPLE-RADIUS=1
 00;X-TITLE=The Peacemaker:geo:0,0
END:VEVENT
BEGIN:VTIMEZONE
TZID:America/New_York
X-LIC-LOCATION:America/New_York
BEGIN:DAYLIGHT
DTSTART:20240310T030000
TZOFFSETFROM:-0500
TZOFFSETTO:-0400
TZNAME:EDT
END:DAYLIGHT
END:VTIMEZONE
END:VCALENDAR