BEGIN:VCALENDAR
VERSION:2.0
PRODID:-//wp-events-plugin.com//7.2.3.1//EN
TZID:America/New_York
X-WR-TIMEZONE:America/New_York
BEGIN:VEVENT
UID:1120@breathemiami.us
DTSTART;TZID=America/New_York:20241221T160000
DTEND;TZID=America/New_York:20241221T230000
DTSTAMP:20241209T174650Z
URL:https://breathemiami.us/events/mose-cacao-dance-live-in-miami/
SUMMARY:"Mose" Cacao Dance - live in Miami
DESCRIPTION:The highly anticipated return of Mose for another Cacao Dance o
 n the Winter Solstice promises to be an extraordinary event. This time\, t
 he organizers are calling for the largest Cacao Dance in the USA\, with an
  expected turnout of over 1\,000 people\, uniting as one strong community.
 \n\nThis special gathering invites participants to harmonize their hearts\
 , minds\, and bodies in an ecstatic dance experience\, led by the renowned
  sound alchemist Mose. His organic electronic music will guide the evening
 \, enriched by the presence of various musical guests\, all as part of Mos
 e's 2024 North American Cacao Dance Tour.\n\nEvent Schedule:\n\n 	4:00 PM:
  Doors Open\n 	4:30 PM: Breathwork Session\n 	5:00 PM: Sound Healing with 
 Jared Bistrong\n 	6:00 PM: Performance by Jesus Hidalgo and Teresa De Jesu
 s\n 	6:30 PM: Cacao Ceremony led by Bruna Burtolato\n 	7:00 PM: Mose (3-ho
 ur DJ set) featuring Giselle World and Brielle Aguila\n 	10:00 PM: Downtem
 po set by Kaheal\n\nAbout Mose:\n\nMose is a visionary DJ and music produc
 er based in Guatemala\, deeply influenced by cacao ceremonies and ecstatic
  dance. His connection to these traditions has shaped his unique style\, f
 ostering a space for community members to immerse themselves in a ceremoni
 al\, alcohol-free environment. Mose’s cacao dances are designed to suppo
 rt participants as they explore dance as a path to self-discovery and mind
 ful presence.\n\nMose’s sound is a fusion of multicultural rhythms and s
 teady\, hypnotic beats\, complemented by the ethereal chanting of sacred s
 ongs. His music calls for love\, kindness\, and compassion\, often incorpo
 rating live musicians to create an improvisational experience that connect
 s deeply with the time and place of each event. His purpose is to help cul
 tivate moments of personal insight and clarity\, offering a transformative
  space for reflection.\n\nThe event promises additional exciting announcem
 ents\, including new venues\, merchandise\, food vendors\, and more magica
 l surprises to come. This gathering is not just a dance\, but a heartfelt 
 invitation to join in prayer and play\, celebrating community\, connection
 \, and conscious living.\n\nThe organizers eagerly look forward to sharing
  this powerful experience with everyone in attendance.\n
ATTACH;FMTTYPE=image/jpeg:https://breathemiami.us/wp-content/uploads/2024/
 10/Mose-Cacao-Dance-live-in-Miami.jpg
CATEGORIES:Featured Events,Things To Do,Wellness Events
LOCATION:ZeyZey Miami\, 353 Northeast 61st Street\, Miami\, Florida\, 33137
 \, FL\, United States
X-APPLE-STRUCTURED-LOCATION;VALUE=URI;X-ADDRESS=353 Northeast 61st Street\,
  Miami\, Florida\, 33137\, FL\, United States;X-APPLE-RADIUS=100;X-TITLE=Z
 eyZey Miami:geo:0,0
END:VEVENT
BEGIN:VTIMEZONE
TZID:America/New_York
X-LIC-LOCATION:America/New_York
BEGIN:STANDARD
DTSTART:20241103T010000
TZOFFSETFROM:-0400
TZOFFSETTO:-0500
TZNAME:EST
END:STANDARD
END:VTIMEZONE
END:VCALENDAR