BEGIN:VCALENDAR
VERSION:2.0
PRODID:-//wp-events-plugin.com//7.2.3.1//EN
TZID:America/New_York
X-WR-TIMEZONE:America/New_York
BEGIN:VEVENT
UID:190@breathemiami.us
DTSTART;TZID=America/New_York:20231210T090000
DTEND;TZID=America/New_York:20231210T100000
DTSTAMP:20231205T143408Z
URL:https://breathemiami.us/events/morning-yoga-flow/
SUMMARY:Morning Yoga Flow
DESCRIPTION:\n\n\n\n\n\n\n\n\n\n\n\n\nEvent Information: Experience a speci
 al 60-minute yoga class set of Morning Yoga Flow against the backdrop of F
 aena's beach art installation\, MAZE: JOURNEY THROUGH THE ALGORITHMIC SELF
 \, curated by SEBASTIAN ERRAZURIZ.\n\nDate and Time: Sunday\, December 10 
 · 9 - 10am EST\n\nAbout this event:\n\n 	Duration: 1 hour\n 	Mobile eTick
 et\n\nJoin us for a rejuvenating morning\, dressed in comfortable yoga att
 ire or a swimsuit if you'd like to take a refreshing dip post-session.\n\n
 Ticket Information: The suggested contribution is $20\, but feel free to a
 djust. Donation is optional for ACCESS PLAN Members.\n\n&nbsp\;\n\nGET TIC
 KETS\n\n\nWorkout Session Details:\n\nEmbark on a transformative 60-minute
  yoga class against the backdrop of Faena's beach art installation\, MAZE:
  JOURNEY THROUGH THE ALGORITHMIC SELF\, curated by SEBASTIAN ERRAZURIZ. Jo
 in us on Sunday\, December 10\, from 9:00 AM to 10:00 AM EST at Faena Hote
 l\, 3201 Collins Avenue\, Miami Beach. Wear yoga attire or a swimsuit for 
 a post-session dip. Tickets are $20 (adjustable) with optional donations f
 or ACCESS PLAN Members. Earn Mindful Miles™️ for exclusive rewards. Ca
 n't make it? Explore online resources like Modern Medi Club and Cushion Cr
 awl On-Demand.\n\nEssentials to Bring: A towel\, mat or blanket\, refillab
 le water bottle\, and an open heart\n\nParking Options: Valet parking at F
 aena Hotel or municipal lot 1 block north of Faena\n\n\n\n\n\n\n\n\n\n\n\n
 \n
ATTACH;FMTTYPE=image/jpeg:https://breathemiami.us/wp-content/uploads/2023/
 12/yoga.jpeg
CATEGORIES:Wellness Events,Yoga Events
LOCATION:Faena Hotel\, 3201 Collins Avenue\, Miami Beach\, FL\, 33140\, Uni
 ted States
X-APPLE-STRUCTURED-LOCATION;VALUE=URI;X-ADDRESS=3201 Collins Avenue\, Miami
  Beach\, FL\, 33140\, United States;X-APPLE-RADIUS=100;X-TITLE=Faena Hotel
 :geo:0,0
END:VEVENT
BEGIN:VTIMEZONE
TZID:America/New_York
X-LIC-LOCATION:America/New_York
BEGIN:STANDARD
DTSTART:20231105T010000
TZOFFSETFROM:-0400
TZOFFSETTO:-0500
TZNAME:EST
END:STANDARD
END:VTIMEZONE
END:VCALENDAR