BEGIN:VCALENDAR
VERSION:2.0
PRODID:-//wp-events-plugin.com//7.2.3.1//EN
TZID:America/New_York
X-WR-TIMEZONE:America/New_York
BEGIN:VEVENT
UID:196@breathemiami.us
DTSTART;TZID=America/New_York:20231209T090000
DTEND;TZID=America/New_York:20231209T100000
DTSTAMP:20231205T194822Z
URL:https://breathemiami.us/events/morning-yoga-flow-with-agustina-caminos
 /
SUMMARY:Morning Yoga Flow with Agustina Caminos
DESCRIPTION:Event Information:\n\nEmbark on a transformative journey as we 
 extend a warm invitation for you to join a special 60-minute yoga class le
 d by Agustina. Immerse yourself in the serenity of Faena's captivating art
  installation\, MAZE: JOURNEY THROUGH THE ALGORITHMIC SELF. This unique ex
 perience promises a harmonious blend of yoga and art\, creating a space fo
 r self-discovery and wellness. Your presence will add to the beauty of thi
 s extraordinary session set against the backdrop of SEBASTIAN ERRAZURIZ's 
 inspiring creation.\n\nDate and Time:Saturday\, December 9 · 9 - 10am EST
 \n\nAbout this event:\n\n 	Immerse yourself in a special 60-minute yoga cl
 ass with Faena Spa Director Agustina Caminos\, set against the backdrop of
  Faena's captivating art installation\, MAZE: JOURNEY THROUGH THE ALGORITH
 MIC SELF by SEBASTIAN ERRAZURIZ.\n 	Start your day with a beautiful mornin
 g\, bringing a yoga outfit or swimsuit to enjoy a dip in the ocean after t
 he session\n\nDuration: 1 hour\n\nTicket Information:\n\n 	Ticket Type: Mo
 bile eTicket\n 	Suggested Contribution: $20 (Adjustable up or down\, optio
 nal for ACCESS PLAN Members)\n\n\nGET TICKETS\n\n\nWorkout Session Details
 :\n\n 	Instructor: Agustina Caminos\, Wellness Director for Faena Group an
 d Spa Director at Faena Hotel Miami Beach.\n 	Location: Surrounding the MA
 ZE: JOURNEY THROUGH THE ALGORITHMIC SELF by SEBASTIAN ERRAZURIZ on the bea
 ch in front of Faena Hotel. Please meet at the entrance of the maze.\n 	Es
 sentials to Bring: Towel\, mat or blanket\, refillable water bottle\, and 
 an open heart.\n\nParking Options:\n\n 	alet parking at Faena Hotel\n 	Mun
 icipal lot one block north of Faena\n
ATTACH;FMTTYPE=image/jpeg:https://breathemiami.us/wp-content/uploads/2023/
 12/https___cdn.evbuc_.com_images_650276019_1145507310493_1_original.jpg
CATEGORIES:Wellness Events,Yoga Events
LOCATION:Faena Hotel\, 3201 Collins Avenue Miami Beach\, Miami Beach\, FL\,
  33140\, United States
X-APPLE-STRUCTURED-LOCATION;VALUE=URI;X-ADDRESS=3201 Collins Avenue Miami B
 each\, Miami Beach\, FL\, 33140\, United States;X-APPLE-RADIUS=100;X-TITLE
 =Faena Hotel:geo:0,0
END:VEVENT
BEGIN:VTIMEZONE
TZID:America/New_York
X-LIC-LOCATION:America/New_York
BEGIN:STANDARD
DTSTART:20231105T010000
TZOFFSETFROM:-0400
TZOFFSETTO:-0500
TZNAME:EST
END:STANDARD
END:VTIMEZONE
END:VCALENDAR