BEGIN:VCALENDAR
VERSION:2.0
PRODID:-//wp-events-plugin.com//7.2.3.1//EN
TZID:America/New_York
X-WR-TIMEZONE:America/New_York
BEGIN:VEVENT
UID:534@breathemiami.us
DTSTART;TZID=America/New_York:20240622T100000
DTEND;TZID=America/New_York:20240622T120000
DTSTAMP:20240609T021738Z
URL:https://breathemiami.us/events/morning-muse-yoga-live-music-treats/
SUMMARY:Morning Muse - Yoga\, Live Music\, Treats
DESCRIPTION:Step into a world where art\, music\, and yoga seamlessly inter
 twine at our gallery event. Join us for a revitalizing morning session des
 igned to elevate your Saturday and harmonize your body and soul in a celeb
 ration of joy and creativity.\nGuided Yoga with Live Music\nBegin your day
  with a rejuvenating yoga practice led by the exceptional Dora Moreinis\, 
 whose guidance will help you find your flow. Accompanying the yoga session
  is expert musician Mitchell Cutler\, whose live guitar melodies will upli
 ft your practice. Surrounded by captivating artwork\, every pose becomes a
  work of art and every breath a melody\, creating a unique and immersive e
 xperience.\nIndulge in Healthy Delights\nAfter the yoga session\, indulge 
 in delicious and healthy snacks that will nourish your body and energize y
 our spirit. These treats are the perfect complement to a morning of mindfu
 l movement and artistic inspiration.\nA Joyful Fusion of Movement and Insp
 iration\nThis event is more than just a yoga class\; it's a joyful fusion 
 of movement and inspiration. As you practice amidst the creative energy of
  the gallery\, let the music and art elevate your experience\, turning eve
 ry moment into a celebration of beauty and creativity.\nElevate Your Satur
 day\nJoin us for Morning Muse and transform your Saturday morning into a h
 armonious blend of yoga\, live music\, and artistic ambiance. Don't miss o
 ut on this unique experience that promises to uplift your spirit and leave
  you feeling inspired and rejuvenated.\n\nEmbrace the opportunity to conne
 ct with yourself and others in a setting that celebrates the artistry of l
 ife. This is an event you won't want to miss!\n\nGET TICKETS\n
ATTACH;FMTTYPE=image/jpeg:https://breathemiami.us/wp-content/uploads/2024/
 06/Morning-Muse-Yoga-Live-Music-Treats.jpg
CATEGORIES:Mindfulness Events,Things To Do,Yoga Events
LOCATION:La Cometa Gallery\, 1015 Northwest 23rd Street #unit 2 Miami\, Mia
 mi\, Florida\, 33127\,  FL \, United States
X-APPLE-STRUCTURED-LOCATION;VALUE=URI;X-ADDRESS=1015 Northwest 23rd Street 
 #unit 2 Miami\, Miami\, Florida\, 33127\,  FL \, United States;X-APPLE-RAD
 IUS=100;X-TITLE=La Cometa Gallery:geo:0,0
END:VEVENT
BEGIN:VTIMEZONE
TZID:America/New_York
X-LIC-LOCATION:America/New_York
BEGIN:DAYLIGHT
DTSTART:20240310T030000
TZOFFSETFROM:-0500
TZOFFSETTO:-0400
TZNAME:EDT
END:DAYLIGHT
END:VTIMEZONE
END:VCALENDAR