BEGIN:VCALENDAR
VERSION:2.0
PRODID:-//wp-events-plugin.com//7.2.3.1//EN
TZID:America/New_York
X-WR-TIMEZONE:America/New_York
BEGIN:VEVENT
UID:1255@breathemiami.us
DTSTART;TZID=America/New_York:20250301T083000
DTEND;TZID=America/New_York:20250301T093000
DTSTAMP:20250212T173141Z
URL:https://breathemiami.us/events/morning-flow-on-the-ocean-terrace-nauti
 lus-sonesta-hotel/
SUMMARY:Morning Flow on the Ocean Terrace | Nautilus Sonesta Hotel
DESCRIPTION:\n\n\n\nStart your weekend with a refreshing and revitalizing y
 oga session on the stunning rooftop ocean terrace of the Nautilus Sonesta 
 Miami Beach Hotel. This immersive wellness experience offers breathtaking 
 ocean views\, an uplifting atmosphere\, and expertly guided instruction by
  the skilled teachers of Cafe Namaste. Whether you’re a beginner or an e
 xperienced yogi\, this all-levels yoga class provides the perfect balance 
 of dynamic movement\, mindful breathing\, and relaxation to energize your 
 body and calm your mind.\nAfter class\, extend your morning bliss with a n
 ourishing breakfast at the Nautilus Cabana Club\, where participants recei
 ve an exclusive 15% discount.\n\nClass Schedule &amp\; Details\n📅 Every
  Saturday &amp\; Sunday🕣 Saturday: 8:30 AM with Michi Abreu🕤 Sunday:
  9:30 AM with Joy Scola📍 Location: Nautilus Sonesta Miami Beach (1825 C
 ollins Avenue\, Miami Beach\, FL 33139)💰 Investment: $25 per person or 
 $20 each when you bring a friend🎟️ Complimentary for hotel guests (no
  registration needed)🌦️ Rain Policy: In case of bad weather\, class w
 ill be moved indoors.\n\nWhy Join Morning Flow Yoga?\n☀️ Invigorating 
 &amp\; Restorative Practice – A blend of dynamic and static movements de
 signed to energize\, strengthen\, and restore the body.🌊 Breathtaking O
 cean Views – Experience tranquility and mindfulness as you flow with the
  rhythm of the waves.🧘 Guided by Expert Instructors – Cafe Namaste’
 s skilled teachers create a welcoming space for all levels.🍽️ Exclusi
 ve Perk – Enjoy 15% off breakfast at Nautilus Cabana Club after class.
 ✨ A Vibrant Yoga Community – Connect with like-minded individuals in a
  positive and supportive environment.\n\nWhat to Bring\n✔️ Yoga mat (r
 equired)✔️ Comfortable\, breathable clothing✔️ Water bottle to sta
 y hydrated✔️ An open heart &amp\; mind for an inspiring experience\n\n
 How to Register\n🎟️ Tickets must be purchased in advance online (no c
 ash or in-person ticketing available).🎟️ Hotel guests participate for
  free – no registration required.\n\nParking &amp\; Accessibility\n🚗 
 Street parking and nearby city lots are available.🚗 Valet parking is al
 so an option at the hotel.\n\nFAQs\n❓ Can I bring children? – This cla
 ss is designed for adults\, but mature teens may attend with a guardian.
 ❓ Where do I park? – Street parking\, city lots\, and valet parking ar
 e available.❓ Is this class beginner-friendly? – Yes! It is open to al
 l levels\, and modifications are provided.❓ What is your refund policy? 
 – Contact the organizers for cancellation and refund policies.\n\nAbout 
 Cafe Namaste\nCafe Namaste™ is a wellness-driven community offering yoga
 \, mindfulness events\, and holistic experiences to foster connection\, em
 powerment\, and well-being. Through a variety of classes\, private session
 s\, corporate partnerships\, and volunteer events\, Cafe Namaste helps ind
 ividuals achieve a balanced\, fulfilling lifestyle.\n\nAbout the Nautilus 
 Sonesta Miami Beach\nThe Nautilus Sonesta Miami Beach is a AAA 4 Diamond-r
 ated beachfront hotel\, blending retro charm with modern luxury. Its seren
 e ambiance and scenic ocean views create the perfect setting for a mindful
 \, rejuvenating yoga experience.\n\nJoin Us &amp\; Elevate Your Weekend!\n
 📞 For more information\, call 786-528-8955📲 Follow @cafenamaste_sofl
 o and @nautilussonestamiami on Instagram &amp\; Facebook for updates.📸 
 Tag us in your yoga moments! #StaySonesta #CafeNamasteMiami.\n\n\n\n\n\n\n
 GET TICKETS\n
ATTACH;FMTTYPE=image/jpeg:https://breathemiami.us/wp-content/uploads/2025/
 02/Morning-Flow-on-the-Ocean-Terrace-Nautilus-Sonesta-Hotel.jpeg
CATEGORIES:Wellness Events
LOCATION:Nautilus Sonesta Miami Beach\, 1825 Collins Avenue\, Miami Beach\,
  FL\, 33140\,  FL \, United States
X-APPLE-STRUCTURED-LOCATION;VALUE=URI;X-ADDRESS=1825 Collins Avenue\, Miami
  Beach\, FL\, 33140\,  FL \, United States;X-APPLE-RADIUS=100;X-TITLE=Naut
 ilus Sonesta Miami Beach:geo:0,0
END:VEVENT
BEGIN:VTIMEZONE
TZID:America/New_York
X-LIC-LOCATION:America/New_York
BEGIN:STANDARD
DTSTART:20241103T010000
TZOFFSETFROM:-0400
TZOFFSETTO:-0500
TZNAME:EST
END:STANDARD
END:VTIMEZONE
END:VCALENDAR