BEGIN:VCALENDAR
VERSION:2.0
PRODID:-//wp-events-plugin.com//7.2.3.1//EN
TZID:America/New_York
X-WR-TIMEZONE:America/New_York
BEGIN:VEVENT
UID:680@breathemiami.us
DTSTART;TZID=America/New_York:20240808T180000
DTEND;TZID=America/New_York:20240808T200000
DTSTAMP:20240804T170533Z
URL:https://breathemiami.us/events/moonlit-botanicals-watercolor-ink-works
 hop-at-the-night-market/
SUMMARY:Moonlit Botanicals: Watercolor Ink Workshop at the Night Market
DESCRIPTION:Immerse yourself in an enchanting evening at the Moonlit Botani
 cals Watercolor Ink Workshop\, held at the Night Market. This workshop off
 ers a unique opportunity to explore the ancient craft of ink-making using 
 plants that benefit our ecosystem.\n\nWorkshop Highlights:\n\n 	Ecological
  Insights: Discover how plants used in the workshop contribute to storm mi
 tigation\, hydration\, and sun protection.\n 	Hands-On Experience: Engage 
 in the art of creating vibrant botanical inks from local flora\, guided by
  sustainable practices.\n 	Techniques &amp\; Materials: Learn sustainable 
 sourcing and preparation methods for natural materials.\n 	Creative Evenin
 g: Enjoy a relaxed and creative night under the stars at the Night Farmers
  Market.\n\nWhat to Expect:\n\n 	Educational Content: Gain knowledge about
  the ecological benefits of various plants and their role in our environme
 nt.\n 	Ink-Making: Create your own handmade botanical inks with expert gui
 dance.\n 	Artistic Exploration: Leave with small samples of locally source
 d inks and paper to craft your personal masterpiece.\n\nParticipants are e
 ncouraged to bring personal containers for additional paint samples to sup
 port sustainability. All materials will be provided\, ensuring a seamless 
 and enjoyable experience.\n\nThis workshop is perfect for artists of all s
 kill levels\, from seasoned creators to curious beginners. Gabriela Serra\
 , esteemed founder of Buenezas\, will lead the session\, blending art\, na
 ture\, and creativity into a memorable evening.\n\nJoin us for a soulful e
 xploration of botanical inks and take home new skills to continue your art
 istic journey. Embrace the chance to connect deeply with nature and enhanc
 e your creative practice while enjoying a magical night market atmosphere.
 \n\nGET TICKETS\n
ATTACH;FMTTYPE=image/jpeg:https://breathemiami.us/wp-content/uploads/2024/
 08/Moonlit-Botanicals-Watercolor-Ink-Workshop-at-the-Night-Market.jpg
CATEGORIES:Food &amp; Drink Events,Mindfulness Events,Things To
 Do,Wellness Events
LOCATION:Vizcaya Village Garage\, 3250 S Miami Ave\, Miami\, Florida\, 3312
 9\, United States\, United States
X-APPLE-STRUCTURED-LOCATION;VALUE=URI;X-ADDRESS=3250 S Miami Ave\, Miami\, 
 Florida\, 33129\, United States\, United States;X-APPLE-RADIUS=100;X-TITLE
 =Vizcaya Village Garage:geo:0,0
END:VEVENT
BEGIN:VTIMEZONE
TZID:America/New_York
X-LIC-LOCATION:America/New_York
BEGIN:DAYLIGHT
DTSTART:20240310T030000
TZOFFSETFROM:-0500
TZOFFSETTO:-0400
TZNAME:EDT
END:DAYLIGHT
END:VTIMEZONE
END:VCALENDAR