BEGIN:VCALENDAR
VERSION:2.0
PRODID:-//wp-events-plugin.com//7.2.3.1//EN
TZID:America/New_York
X-WR-TIMEZONE:America/New_York
BEGIN:VEVENT
UID:683@breathemiami.us
DTSTART;TZID=America/New_York:20240805T190000
DTEND;TZID=America/New_York:20240805T200000
DTSTAMP:20240804T191804Z
URL:https://breathemiami.us/events/moondays-sound-healing-meditation/
SUMMARY:Moondays Sound Healing & Meditation
DESCRIPTION:Embark on a transformative journey with Moondays Sound Healing 
 &amp\; Meditation\, where you are warmly invited to immerse yourself in a 
 ceremonial sound bath designed to rejuvenate your energetic field and soot
 he the mind.\n\nExperience Highlights:\n\n 	Ceremonial Sound Bath: Engage 
 in a deeply immersive sound bath that utilizes resonant tones and harmonio
 us frequencies to restore balance and clarity to your energetic field.\n 	
 Mindful Meditation: Calm your mind through guided meditation\, enhancing y
 our sense of inner peace and tranquility.\n 	Energetic Restoration: Allow 
 the therapeutic sounds to cleanse and renew your energy\, promoting a stat
 e of profound relaxation and mental calm.\n\nThis event provides a unique 
 opportunity to reset and refresh your energy while finding solace and clar
 ity in a serene and supportive environment. Whether seeking relief from st
 ress or a deeper connection with oneself\, attendees will leave feeling re
 vitalized and centered.\n\nJoin us for an evening of healing sounds and me
 ditative tranquility\, and experience the restorative power of ceremonial 
 sound healing.\n\nGET TICKETS\n
ATTACH;FMTTYPE=image/jpeg:https://breathemiami.us/wp-content/uploads/2024/
 08/Moondays-Sound-Healing-Meditation.jpg
CATEGORIES:Mindfulness Events,Things To Do,Wellness Events
LOCATION:Luminous Energy Exchange\, 4973 Southwest 75th Avenue #1st Floor\,
  Miami\, Florida\, 33155\,  FL \, United States
X-APPLE-STRUCTURED-LOCATION;VALUE=URI;X-ADDRESS=4973 Southwest 75th Avenue 
 #1st Floor\, Miami\, Florida\, 33155\,  FL \, United States;X-APPLE-RADIUS
 =100;X-TITLE=Luminous Energy Exchange:geo:0,0
END:VEVENT
BEGIN:VTIMEZONE
TZID:America/New_York
X-LIC-LOCATION:America/New_York
BEGIN:DAYLIGHT
DTSTART:20240310T030000
TZOFFSETFROM:-0500
TZOFFSETTO:-0400
TZNAME:EDT
END:DAYLIGHT
END:VTIMEZONE
END:VCALENDAR