BEGIN:VCALENDAR
VERSION:2.0
PRODID:-//wp-events-plugin.com//7.2.3.1//EN
TZID:America/New_York
X-WR-TIMEZONE:America/New_York
BEGIN:VEVENT
UID:989@breathemiami.us
DTSTART;TZID=America/New_York:20241028T190000
DTEND;TZID=America/New_York:20241028T200000
DTSTAMP:20241003T141238Z
URL:https://breathemiami.us/events/moondays-sound-healing-meditation-2/
SUMMARY:Moondays Sound Healing & Meditation
DESCRIPTION:Moondays Sound Healing &amp\; Meditation welcomes participants 
 aged 13 and above. Minors must be accompanied by an adult. This session re
 quires no prior experience or skill\, making it accessible to everyone. At
 tendees are encouraged to bring a comfortable mat\, a small pillow\, an op
 tional bolster\, a blanket\, and a refillable water bottle. Seating is ava
 ilable to suit different preferences\, ensuring a relaxed experience for a
 ll. The session will last approximately one hour\, and parking is free and
  readily available.\n\nGuests are kindly asked to arrive 10-15 minutes ear
 ly for check-in and to settle in comfortably. Please note: Late arrivals w
 ill not be permitted out of respect for all participants\, as entering mor
 e than 10 minutes after the session begins can disrupt the atmosphere of t
 he intimate space. It is important to plan accordingly and ensure prompt a
 rrival. If any unforeseen circumstances arise\, attendees are encouraged t
 o contact the event coordinator\, Christina\, at 786-316-6893.\n\nWhile re
 funds are not offered\, a one-time ticket transfer may be requested if nec
 essary. This mindful and immersive experience is designed to foster peace 
 and relaxation\, creating a serene environment for all who attend.
ATTACH;FMTTYPE=image/jpeg:https://breathemiami.us/wp-content/uploads/2024/
 10/Moondays-Sound-Healing-Meditation.jpg
CATEGORIES:Wellness Events
LOCATION:Luminous Energy Exchange\, 4973 SW 75th Avenue 1st Floor\, Miami\,
  Florida\, 33155\, FL\, United States
X-APPLE-STRUCTURED-LOCATION;VALUE=URI;X-ADDRESS=4973 SW 75th Avenue 1st Flo
 or\, Miami\, Florida\, 33155\, FL\, United States;X-APPLE-RADIUS=100;X-TIT
 LE=Luminous Energy Exchange:geo:0,0
END:VEVENT
BEGIN:VTIMEZONE
TZID:America/New_York
X-LIC-LOCATION:America/New_York
BEGIN:DAYLIGHT
DTSTART:20240310T030000
TZOFFSETFROM:-0500
TZOFFSETTO:-0400
TZNAME:EDT
END:DAYLIGHT
END:VTIMEZONE
END:VCALENDAR