BEGIN:VCALENDAR
VERSION:2.0
PRODID:-//wp-events-plugin.com//7.2.3.1//EN
TZID:America/New_York
X-WR-TIMEZONE:America/New_York
BEGIN:VEVENT
UID:925@breathemiami.us
DTSTART;TZID=America/New_York:20241020T100000
DTEND;TZID=America/New_York:20241020T120000
DTSTAMP:20240930T053442Z
URL:https://breathemiami.us/events/model-theory-yogilates-intention-flow-l
 ymphatic-massages/
SUMMARY:Model Theory: Yogilates Intention Flow+ Lymphatic Massages
DESCRIPTION:Model Theory invites participants to its inaugural event\, wher
 e the worlds of Yogilates and pampering converge in an enriching experienc
 e! ✨\n\nAttendees can look forward to a revitalizing session that combin
 es the strength and flexibility of yoga with the core-focused conditioning
  of Pilates. Under the guidance of a certified instructor\, participants w
 ill embark on heartwarming intention flows designed to foster a sense of g
 rounding and inspiration. 🧘‍♀️💕\n\nFollowing this invigorating
  Yogilates class\, guests will have the opportunity to indulge in a soothi
 ng lymphatic massage. This gentle treatment aims to promote relaxation and
  detoxification\, all within a cozy and welcoming atmosphere.\n\nTo enhanc
 e the experience\, light snacks and refreshing beverages will be provided\
 , ensuring that everyone stays energized and uplifted throughout the day. 
 🍏🥤\n\nWhether participants are seeking to reconnect with their inner
  selves or simply enjoy a delightful outing with friends\, this event offe
 rs the perfect opportunity to embark on a wellness journey with Model Theo
 ry. 🌟\n\nThis charming morning promises self-care and community connect
 ion\, making it an unmissable event. Attendees are encouraged to bring the
 ir mats\, bright smiles\, and an open heart to create a magical experience
  together! ☀️💖\n\nSpaces are limited\, so reserve your spot now and
  join in the celebration of health\, happiness\, and holistic wellness! 
 🌻\n\nGET TICKETS\n
ATTACH;FMTTYPE=image/jpeg:https://breathemiami.us/wp-content/uploads/2024/
 09/Model-Theory-Yogilates-Intention-Flow-Lymphatic-Massages.jpg
CATEGORIES:Things To Do
LOCATION:Wynwood\, Wynwood Miami\, Miami\, Florida\,  33127\, FL\, United S
 tates
X-APPLE-STRUCTURED-LOCATION;VALUE=URI;X-ADDRESS=Wynwood Miami\, Miami\, Flo
 rida\,  33127\, FL\, United States;X-APPLE-RADIUS=100;X-TITLE=Wynwood:geo:
 0,0
END:VEVENT
BEGIN:VTIMEZONE
TZID:America/New_York
X-LIC-LOCATION:America/New_York
BEGIN:DAYLIGHT
DTSTART:20240310T030000
TZOFFSETFROM:-0500
TZOFFSETTO:-0400
TZNAME:EDT
END:DAYLIGHT
END:VTIMEZONE
END:VCALENDAR