BEGIN:VCALENDAR
VERSION:2.0
PRODID:-//wp-events-plugin.com//7.2.3.1//EN
TZID:America/New_York
X-WR-TIMEZONE:America/New_York
BEGIN:VEVENT
UID:192@breathemiami.us
DTSTART;TZID=America/New_York:20231206T103000
DTEND;TZID=America/New_York:20231206T113000
DTSTAMP:20231228T215950Z
URL:https://breathemiami.us/events/mindtravel-live-walking-meditation-with
 -murray-hidary/
SUMMARY:MindTravel Live Walking Meditation with Murray Hidary
DESCRIPTION:Event Information:\n\n\n\n\n\n\n\n\n\n\n\n\n\nMiami Art Week by
  participating in a transformative live walking meditation led by Murray H
 idary\, the visionary behind MindTravel.\n\n\n\n\n\n\n\n\n\n\n\n\n\nDate a
 nd Time: Wednesday\, December 6 · 10:30 - 11:30am EST\n\nAbout this event
 :\n\nEmbark on your Miami Art Week journey with an enriching live walking 
 meditation guided by Murray Hidary\, the creator of MindTravel.\n\n 	Durat
 ion: 1 hour\n\nImmerse yourself in the transformative experience of stilln
 ess through movement\, connecting to the present moment through the gentle
  guidance of Murray and the soulful music of MindTravel in your headphones
  or earbuds.\n\nTicket Information:Suggested contribution is $20 (Feel fre
 e to adjust down or up). Donation is optional for ACCESS PLAN Members.\n\n
 &nbsp\;\n\nGET TICKETS\n\n\nWorkout Session Details:\n\n 	Engage in a walk
 ing meditation with Murray Hidary\, a multi-disciplinary artist and tech p
 ioneer\, sharing his meditative piano compositions and walking meditations
 .\n 	Experience stillness and presence through movement\, connecting music
  and mindfulness.\n\nEssentials to Bring:\n\n 	A towel\, mat\, or blanket\
 n 	Refillable water bottle\n 	An open heart\n\nParking Options: \n\n 	Val
 et parking available at Faena Hotel.\n 	Municipal parking lot located one 
 block north of Faena.\n
ATTACH;FMTTYPE=image/jpeg:https://breathemiami.us/wp-content/uploads/2023/
 12/https___cdn.evbuc_.com_images_650320949_1387709873003_1_original.jpeg
CATEGORIES:Wellness Events
LOCATION:Faena Hotel\, 3201 Collins Avenue\, Miami Beach\, FL\, 33140\, Uni
 ted States
X-APPLE-STRUCTURED-LOCATION;VALUE=URI;X-ADDRESS=3201 Collins Avenue\, Miami
  Beach\, FL\, 33140\, United States;X-APPLE-RADIUS=100;X-TITLE=Faena Hotel
 :geo:0,0
END:VEVENT
BEGIN:VTIMEZONE
TZID:America/New_York
X-LIC-LOCATION:America/New_York
BEGIN:STANDARD
DTSTART:20231105T010000
TZOFFSETFROM:-0400
TZOFFSETTO:-0500
TZNAME:EST
END:STANDARD
END:VTIMEZONE
END:VCALENDAR