BEGIN:VCALENDAR
VERSION:2.0
PRODID:-//wp-events-plugin.com//7.2.3.1//EN
TZID:America/New_York
X-WR-TIMEZONE:America/New_York
BEGIN:VEVENT
UID:70@breathemiami.us
DTSTART;TZID=America/New_York:20230930T190000
DTEND;TZID=America/New_York:20230930T210000
DTSTAMP:20240908T113839Z
URL:https://breathemiami.us/events/mindtravel-live-to-headphones-silent-pi
 ano-journey-in-miami-beach/
SUMMARY:MindTravel Live-to-Headphones 'Silent' Piano Journey in Miami Beach
DESCRIPTION:Experience an immersive musical journey lit by the full moon as
  MindTravel creator Murray Hidary brings live-piano compositions to Miami!
 \nMindTravel Live-to-Headphones 'Silent' Piano Journey in Miami Beach\n\nJ
 oin us for an unforgettable evening as we bring you Miami's largest mindfu
 lness event: MindTravel Live-to-Headphones 'Silent' Piano Concert. Immerse
  yourself in the mesmerizing melodies of renowned pianist Murray Hidary\, 
 as he takes you on a musical journey like no other.\n\nPrepare to be trans
 ported to a world of tranquility and introspection as you put on your head
 phones and let the enchanting piano melodies wash over you. As you sit on 
 the beautiful Miami Beach sand\, close your eyes and let your mind wander\
 , allowing the music to guide your thoughts and emotions.\n\nThis unique e
 xperience offers a serene escape from the hustle and bustle of everyday li
 fe. Whether you're a music lover\, seeking relaxation\, or simply looking 
 for a moment of peace\, this 'silent' piano journey is the perfect opportu
 nity to unwind and find solace.\n\nDon't miss out on this extraordinary ev
 ening\, guided by the light of the full moon.\n\nNOTE: This experience wil
 l take place rain or shine and will only be canceled in the event of light
 ning.\n\nWhat People Say About MindTravel\n\n"MindTravel is an experience 
 like no other. Imagine a concert pianist improvising beautiful\, peaceful 
 music with imagery in the background that matches the beauty of the music 
 — combined\, it is almost meditative or trancelike." - Jason Wachob\, Fo
 under of mindbodygreen\n\n"MindTravel is an amazing introduction to medita
 tion as it takes the Traveler on a specific journey. It is also perfect fo
 r the experienced meditator as a way to enhance and deepen one’s own pra
 ctice. In short\, Mind Travel is for anyone!” - Sara Ivanhoe\, MA Yoga P
 hilosophy\n\n\nGET TICKETS\n\n&nbsp\;\n\n[embed]https://youtu.be/vplAaZv7e
 lo[/embed]\n\nMore About MindTravel\n\nCreated by composer and pianist Mu
 rray Hidary\, MindTravel is an immersive musical journey designed to fos
 ter inspiration and awakening. Music is the language of emotion. It’s un
 iversal. And through musical experiences spanning the globe – from the d
 eserts of the Middle East to the ice of Antarctica and everywhere in betwe
 en – MindTravel seeks to remind us of that which is ever-present but o
 ften un-felt: Connection. Connection to ourselves\, connection to Nature\,
  and of course\, connection to our common humanity.\n\nFollow more about 
 MindTravel online:\n\nWEBSITE | INSTAGRAM | FACEBOOK\n\n\n\n
ATTACH;FMTTYPE=image/jpeg:https://breathemiami.us/wp-content/uploads/2023/
 09/MindTravel-live-to-headphones-silent-piano-journey-in-miami-beach-featu
 red.jpeg
CATEGORIES:Mindfulness Events,Things To Do,Wellness Events
LOCATION:(on the sand in front of) Indian Beach Park\, 4601 Collins Avenue\
 , Miami Beach\, FL\, 33140\, United States
X-APPLE-STRUCTURED-LOCATION;VALUE=URI;X-ADDRESS=4601 Collins Avenue\, Miami
  Beach\, FL\, 33140\, United States;X-APPLE-RADIUS=100;X-TITLE=(on the san
 d in front of) Indian Beach Park:geo:0,0
END:VEVENT
BEGIN:VTIMEZONE
TZID:America/New_York
X-LIC-LOCATION:America/New_York
BEGIN:DAYLIGHT
DTSTART:20230312T030000
TZOFFSETFROM:-0500
TZOFFSETTO:-0400
TZNAME:EDT
END:DAYLIGHT
END:VTIMEZONE
END:VCALENDAR