BEGIN:VCALENDAR
VERSION:2.0
PRODID:-//wp-events-plugin.com//7.2.3.1//EN
TZID:America/New_York
X-WR-TIMEZONE:America/New_York
BEGIN:VEVENT
UID:55@breathemiami.us
DTSTART;TZID=America/New_York:20230917T193000
DTEND;TZID=America/New_York:20230917T213000
DTSTAMP:20240908T113623Z
URL:https://breathemiami.us/events/mindtravel-live-piano-experience-at-fro
 st-planetarium/
SUMMARY:MindTravel Live-Piano Experience at Frost Planetarium
DESCRIPTION:Immerse yourself in an evening where music and mindfulness meet
 ! Let the music and stunning visuals from Frost Planetarium transport you.
 \nMindTravel Live-Piano Experience at Frost Planetarium\n\nCome join us fo
 r an unforgettable evening of live piano music at the Frost Planetarium in
  Miami\, FL. Get ready to be transported on a mesmerizing journey through 
 sound and space.\n\nImmerse yourself in the captivating live-piano composi
 tions played by Murray Hidary. As you close your eyes\, let the music take
  you on a mindful exploration of your inner self.\n\nThe experience will b
 e held on Sunday\, September 17\, 2023 at 7:30 pm (Eastern Daylight Time).
  So mark your calendars and get ready to experience an evening of musical 
 transformation.\n\nLocated at 1101 Biscayne Boulevard\, Miami\, FL 33132\,
  the Frost Planetarium offers a unique setting for this extraordinary even
 t. The combination of the stunning visuals and the meditative piano music 
 will create an atmosphere like no other.\n\nDon't miss this opportunity to
  indulge in a multisensory experience that will leave you feeling rejuvena
 ted and inspired. Join us for the MindTravel Live-Piano Experience and let
  the music ignite your soul.\n\nGET TICKETS\n\n\n\n\n[embed]https://youtu.
 be/4VKDbj8LUVo[/embed]\nWhat People Say About MindTravel\n"MindTravel is a
 n experience like no other. Imagine a concert pianist improvising beautifu
 l\, peaceful music with imagery in the background that matches the beauty 
 of the music — combined\, it is almost meditative or trancelike." - Jaso
 n Wachob\, Founder of mindbodygreen\n\n"MindTravel is an amazing introduct
 ion to meditation as it takes the Traveler on a specific journey. It is al
 so perfect for the experienced meditator as a way to enhance and deepen on
 e’s own practice. In short\, Mind Travel is for anyone!” - Sara Ivanho
 e\, MA Yoga Philosophy\nMore About MindTravel\nCreated by composer and pia
 nist Murray Hidary\, MindTravel is an immersive musical journey designed t
 o foster inspiration and awakening. Music is the language of emotion. It
 ’s universal. And through musical experiences spanning the globe – fro
 m the deserts of the Middle East to the ice of Antarctica and everywhere i
 n between – MindTravel seeks to remind us of that which is ever-present 
 but often un-felt: Connection. Connection to ourselves\, connection to Nat
 ure\, and of course\, connection to our common humanity.\n\nFollow more ab
 out MindTravel online:\n\nWEBSITE | INSTAGRAM | FACEBOOK\n\n[embed]https:/
 /youtu.be/vplAaZv7elo[/embed]
ATTACH;FMTTYPE=image/jpeg:https://breathemiami.us/wp-content/uploads/2023/
 09/mindtravel-live-piano-experience-at-frost-planetarium-featured.jpeg
CATEGORIES:Mindfulness Events,Things To Do,Wellness Events
LOCATION:Phillip & Patricia Frost Museum of Science\, 1101 Biscayne Bouleva
 rd\, Downtown Miami\, FL\, 33132\, United States
X-APPLE-STRUCTURED-LOCATION;VALUE=URI;X-ADDRESS=1101 Biscayne Boulevard\, D
 owntown Miami\, FL\, 33132\, United States;X-APPLE-RADIUS=100;X-TITLE=Phil
 lip & Patricia Frost Museum of Science:geo:0,0
END:VEVENT
BEGIN:VTIMEZONE
TZID:America/New_York
X-LIC-LOCATION:America/New_York
BEGIN:DAYLIGHT
DTSTART:20230312T030000
TZOFFSETFROM:-0500
TZOFFSETTO:-0400
TZNAME:EDT
END:DAYLIGHT
END:VTIMEZONE
END:VCALENDAR