BEGIN:VCALENDAR
VERSION:2.0
PRODID:-//wp-events-plugin.com//7.2.3.1//EN
TZID:America/New_York
X-WR-TIMEZONE:America/New_York
BEGIN:VEVENT
UID:1300@breathemiami.us
DTSTART;TZID=America/New_York:20250404T110000
DTEND;TZID=America/New_York:20250404T120000
DTSTAMP:20250301T042922Z
URL:https://breathemiami.us/events/mindfulness-movement-for-homeschoolers-
 w-valerie-dewitt/
SUMMARY:Mindfulness & Movement for Homeschoolers w/ Valerie DeWitt
DESCRIPTION:Mindfulness &amp\; Movement for Homeschoolers with Valerie DeWi
 tt\nMindfulness &amp\; Movement for Homeschoolers is a donation-based clas
 s designed for children ages 5-12\, offering an engaging and interactive s
 ession focused on breathwork\, movement\, and mindfulness techniques. Led 
 by Valerie DeWitt\, an experienced yoga instructor with over 20 years of p
 ractice\, this class supports the emotional and physical well-being of hom
 eschoolers.\nClass Benefits:\n\n\n 	Enhances well-being and reduces stress
 \n 	Improves focus\, discipline\, and cooperation\n 	Boosts self-esteem an
 d cultivates flexibility\n 	Encourages heartfulness\, playfulness\, and at
 tention skills\n\nHeld on the first Friday of each month (March 7\, April 
 4\, May 2) from 11:00 AM to 12:00 PM at The Peacemaker\, 8100 SW 81 Drive\
 , Second Floor\, this class provides a fun and supportive environment for 
 children to grow both physically and emotionally.\nHow to Join:\n\n\n 	Don
 ation-Based: Suggested contribution of $11-$33\n 	Register: Via Eventbrite
  or Venmo @thepeacemaker\n 	For questions\, email mentorval@gmail.com\n 	P
 arents are welcome to observe or relax in the waiting area.\n\nJoin Valeri
 e in creating a mindful space where children can breathe\, move\, and thri
 ve!\n\n\nGET TICKETS\n
ATTACH;FMTTYPE=image/jpeg:https://breathemiami.us/wp-content/uploads/2025/
 02/Mindfulness.avif
CATEGORIES:Wellness Events
LOCATION:The Peacemaker\, 8100 Southwest 81st \, 275 Miami\, Florida\, 3314
 3\, FL\, United States
X-APPLE-STRUCTURED-LOCATION;VALUE=URI;X-ADDRESS=8100 Southwest 81st \, 275 
 Miami\, Florida\, 33143\, FL\, United States;X-APPLE-RADIUS=100;X-TITLE=Th
 e Peacemaker:geo:0,0
END:VEVENT
BEGIN:VTIMEZONE
TZID:America/New_York
X-LIC-LOCATION:America/New_York
BEGIN:DAYLIGHT
DTSTART:20250309T030000
TZOFFSETFROM:-0500
TZOFFSETTO:-0400
TZNAME:EDT
END:DAYLIGHT
END:VTIMEZONE
END:VCALENDAR