BEGIN:VCALENDAR
VERSION:2.0
PRODID:-//wp-events-plugin.com//7.2.3.1//EN
TZID:America/New_York
X-WR-TIMEZONE:America/New_York
BEGIN:VEVENT
UID:1289@breathemiami.us
DTSTART;TZID=America/New_York:20250313T090000
DTEND;TZID=America/New_York:20250313T101500
DTSTAMP:20250226T170110Z
URL:https://breathemiami.us/events/mindful-morning-yoga-flow-with-nadine-2
 /
SUMMARY:Mindful Morning Yoga Flow with Nadine
DESCRIPTION:Every Thursday at 9 AM\, The Peacemaker welcomes individuals of
  all skill levels to a rejuvenating 75-minute Vinyasa Yoga session led by 
 Nadine. With a strong emphasis on the seamless integration of breath and m
 ovement\, her classes are thoughtfully designed to cultivate a deep sense 
 of harmony within both the body and mind. Nadine’s nurturing teaching st
 yle and carefully curated sequences ensure that participants\, whether beg
 inners or seasoned practitioners\, feel supported throughout their practic
 e. Each session provides an opportunity to explore new depths in flexibili
 ty\, strength\, and mindfulness in a welcoming and encouraging atmosphere.
  By joining Nadine’s class\, participants embark on a journey toward inn
 er peace\, enhanced well-being\, and a renewed connection to themselves.\n
 \nGET TICKETS\n
ATTACH;FMTTYPE=image/jpeg:https://breathemiami.us/wp-content/uploads/2025/
 02/Mindful-Morning-Yoga-Flow-with-Nadine.avif
CATEGORIES:Yoga Events
LOCATION:The Peacemaker\, 8100 Southwest 81st Drive #suite 275 \, Miami\, F
 lorida\, 33143\, FL\, United States
X-APPLE-STRUCTURED-LOCATION;VALUE=URI;X-ADDRESS=8100 Southwest 81st Drive #
 suite 275 \, Miami\, Florida\, 33143\, FL\, United States;X-APPLE-RADIUS=1
 00;X-TITLE=The Peacemaker:geo:0,0
END:VEVENT
BEGIN:VTIMEZONE
TZID:America/New_York
X-LIC-LOCATION:America/New_York
BEGIN:DAYLIGHT
DTSTART:20250309T030000
TZOFFSETFROM:-0500
TZOFFSETTO:-0400
TZNAME:EDT
END:DAYLIGHT
END:VTIMEZONE
END:VCALENDAR