BEGIN:VCALENDAR
VERSION:2.0
PRODID:-//wp-events-plugin.com//7.2.3.1//EN
TZID:America/New_York
X-WR-TIMEZONE:America/New_York
BEGIN:VEVENT
UID:421@breathemiami.us
DTSTART;TZID=America/New_York:20240525T150000
DTEND;TZID=America/New_York:20240525T190000
DTSTAMP:20240518T020219Z
URL:https://breathemiami.us/events/mind-body-wellness-integrating-medical/
SUMMARY:MIND BODY WELLNESS - Integrating Medical Science and Spirituality
DESCRIPTION:\nExplore the Connection Between Body\, Mind\, and Spirit: Free
  Kriya Yoga Symposium\nThe Kriya Yoga International Organization and the U
 niversity of Miami proudly present a free symposium in honor of the 50th A
 nniversary of Paramahamsa Hariharananda bringing Kriya Yoga teachings to t
 he West. This event offers a unique opportunity to delve into the profound
  connection between body\, mind\, science\, and spiritual practice.\nRenow
 ned Speakers:\n\n\n 	Paramahamsa Prajnanananda: The current spiritual lead
 er of Kriya Yoga International\, Paramahamsa Prajnanananda is a prolific a
 uthor\, scholar\, and bridge between Eastern and Western cultures. His 20-
 minute talk will explore the practical application of Kriya Yoga and its i
 mpact on well-being.\n 	Dr. Lee\, Ph.D.: A leading figure in public health
 \, Dr. Lee will discuss the growing body of scientific evidence supporting
  the benefits of mind-body practices like meditation and yoga for managing
  chronic conditions and stress.\n 	Dr. Anisha Durve\, D.O.M.\, A.D.: Dr. D
 urve\, a seasoned acupuncturist and educator\, will shed light on the powe
 r of integrative medicine and how ancient practices like acupuncture can c
 ontribute to holistic well-being.\n\nA Holistic Approach to Health:\nEach 
 speaker will present a 20-minute talk followed by a Q&amp\;A session\, off
 ering valuable insights into:\n\n\n 	The Interconnectedness of Body and Mi
 nd: Discover how your physical and mental well-being influence each other.
 \n 	Science Meets Spirituality: Explore the growing scientific validation 
 of traditional practices for enhancing health.\n 	The Power of Practice: L
 earn how Kriya Yoga\, meditation\, and other techniques can positively imp
 act your life.\n\nMore than just talks:\n\n\n 	Opening Musical Performance
 : Set the tone for the symposium with a calming and uplifting musical prel
 ude.\n 	Healthy Refreshments: Enjoy complimentary healthy snacks before th
 e event.\n 	Kriya Yoga Bookstore: Browse a selection of books and resource
 s to deepen your understanding of Kriya Yoga and related topics.\n\nThis f
 ree symposium is open to all! Whether you're a seasoned practitioner\, a c
 urious newcomer\, or simply seeking to learn more about integrative approa
 ches to well-being\, this event offers valuable insights and a welcoming c
 ommunity.\nJoin us for an enriching experience as we explore the profound 
 connection between body\, mind\, and spirit.\n\n\n\nBOOK SPOTS\n
ATTACH;FMTTYPE=image/jpeg:https://breathemiami.us/wp-content/uploads/2024/
 04/https___cdn.evbuc_.com_images_726330459_208321000230_1_original.jpeg
CATEGORIES:Wellness Events,Yoga Events
LOCATION:Shalala Student Center\, 1330 Miller Drive\, Miami\, Florida\, 331
 46 \, United States
X-APPLE-STRUCTURED-LOCATION;VALUE=URI;X-ADDRESS=1330 Miller Drive\, Miami\,
  Florida\, 33146 \, United States;X-APPLE-RADIUS=100;X-TITLE=Shalala Stude
 nt Center:geo:0,0
END:VEVENT
BEGIN:VTIMEZONE
TZID:America/New_York
X-LIC-LOCATION:America/New_York
BEGIN:DAYLIGHT
DTSTART:20240310T030000
TZOFFSETFROM:-0500
TZOFFSETTO:-0400
TZNAME:EDT
END:DAYLIGHT
END:VTIMEZONE
END:VCALENDAR