BEGIN:VCALENDAR
VERSION:2.0
PRODID:-//wp-events-plugin.com//7.2.3.1//EN
TZID:America/New_York
X-WR-TIMEZONE:America/New_York
BEGIN:VEVENT
UID:222@breathemiami.us
DTSTART;TZID=America/New_York:20231220T180000
DTEND;TZID=America/New_York:20231220T190000
DTSTAMP:20240218T010114Z
URL:https://breathemiami.us/events/miami-weekly-meditation-sit-in-modern-o
 m-bungalow/
SUMMARY:Miami Weekly Meditation Sit
DESCRIPTION:Event Information:\n\n\n\n\n\n\n\n\n\n\n\n\n\nEmbark on a trans
 formative journey with Leila Mohr and Miami's vibrant meditation community
  as they invite you to a dedicated Wednesday night sitting group at the se
 rene Modern ŌM Bungalow. Join this collective experience where Leila Mohr
 's guidance and the supportive energy of Miami's meditation enthusiasts co
 nverge\, creating a space for shared mindfulness and connection. Step into
  the tranquility of the Bungalow\, where the essence of Wednesday night be
 comes a sanctuary for inner reflection and community bonding.\n\n\n\n\n\n\
 n\n\n\n\n\n\n\nDate and Time:Wednesday\, December 20 · 6 - 7pm EST\n\nAbo
 ut this event:\n\n 	Embark on a journey of mindfulness with Leila Mohr and
  Miami’s meditation community at the Modern ŌM Bungalow. This dedicated
  Wednesday night sitting group offers a serene space for participants to e
 ngage in a collective meditation experience\, fostering a sense of peace a
 nd connection.\n\nDuration: 1 hour\n\nTicket Information:\n\n 	Admission: 
 Open to all\, no ticket required\n 	Donation: Contributions welcome to sup
 port the meditation community\n\n\nGET TICKETS\n\n\nWorkout Session Detail
 s:\n\n 	Immerse yourself in a tranquil meditation session led by Leila Moh
 r\, creating an atmosphere of calm and reflection. The weekly gathering pr
 ovides an opportunity to unwind\, center the mind\, and connect with like-
 minded individuals in the heart of Miami.\n\nEssentials to Bring:\n\n 	Com
 fortable Seating: Bring a cushion or mat for a comfortable sitting experie
 nce.\n 	Open Mind: Come with an open mind and a willingness to explore the
  benefits of meditation.\n\nParking Options:\n\n 	\n\n\n\n\n\n\n\n\n\nConv
 eniently located at the Modern ŌM Bungalow\, ample parking is available o
 n-site for participants. Embrace the serenity of the evening without the h
 assle of parking concerns\, ensuring a seamless entry into the world of me
 ditation\n\n\n\n\n\n\n\n\n\n\n\n\n\n\n\n\n\n\n\n
ATTACH;FMTTYPE=image/jpeg:https://breathemiami.us/wp-content/uploads/2023/
 12/https___cdn.evbuc_.com_images_612060999_1145507310493_1_original.jpg
CATEGORIES:Wellness Events
LOCATION:Modern ŌM Bungalow\, 5020 Northeast 2nd Avenue\, Miami\, FL\, 331
 37\, United States
X-APPLE-STRUCTURED-LOCATION;VALUE=URI;X-ADDRESS=5020 Northeast 2nd Avenue\,
  Miami\, FL\, 33137\, United States;X-APPLE-RADIUS=100;X-TITLE=Modern ŌM 
 Bungalow:geo:0,0
END:VEVENT
BEGIN:VTIMEZONE
TZID:America/New_York
X-LIC-LOCATION:America/New_York
BEGIN:STANDARD
DTSTART:20231105T010000
TZOFFSETFROM:-0400
TZOFFSETTO:-0500
TZNAME:EST
END:STANDARD
END:VTIMEZONE
END:VCALENDAR