BEGIN:VCALENDAR
VERSION:2.0
PRODID:-//wp-events-plugin.com//7.2.3.1//EN
TZID:America/New_York
X-WR-TIMEZONE:America/New_York
BEGIN:VEVENT
UID:211@breathemiami.us
DTSTART;TZID=America/New_York:20231213T180000
DTEND;TZID=America/New_York:20231213T190000
DTSTAMP:20240218T010105Z
URL:https://breathemiami.us/events/miami-weekly-meditation-sit-in-miami/
SUMMARY:Miami Weekly Meditation Sit
DESCRIPTION:Event Information:\n\nEmbark on a serene journey with Yule Nune
 z\, where the heartbeat of meditation resonates through the dedicated Wedn
 esday night sitting group at the Modern ŌM Bungalow. Join Yule and the vi
 brant Miami meditation community for an immersive experience\, as the tran
 quil ambiance of the Bungalow becomes the canvas for a collective meditati
 on practice. Allow Yule's guidance to lead you into a space of inner calm 
 and connection. Wednesday nights are transformed into a sanctuary for medi
 tation\, providing a shared moment of stillness and reflection within the 
 heart of Miami's mindful community at the Modern ŌM Bungalow.\n\nDate and
  Time: Wednesday\, December 13 · 6 - 7pm EST\n\nAbout this event:\n\nReig
 nite your meditation practice and join Yule Nunez and Miami’s meditation
  community for a dedicated Wednesday night sitting group at the Modern ŌM
  Bungalow. Experience a post-pandemic return of Miami's original weekly me
 ditation community. Come together for an hour of guided meditation\, teach
 ings\, and community connection through a Q&amp\;A session. All experience
  levels are welcome to meditate\, enhance their practice\, and connect wit
 h others in this safe and supportive community.\n\nDuration: 1 hour\n\nTic
 ket Information:\n\nRegistration options: Early Bird or General Admission\
 n\nGET TICKETS\n\n\nWorkout Session Details:\n\n 	Guided meditation and te
 achings by Yule Nunez\n 	Community conversation with Q&amp\;A\n 	Open to a
 ll experience levels\n\nEssentials to Bring:\n\n 	Refillable water bottle\
 n 	Open heart\n\nParking Options:\n\n 	Metered parking along the streets o
 f Upper Buena Vista on NE 2nd Avenue and NE 50th Terrace.\n 	Avoid parking
  in residential zones to prevent towing.\n
ATTACH;FMTTYPE=image/jpeg:https://breathemiami.us/wp-content/uploads/2023/
 12/https___cdn.evbuc_.com_images_589304939_1145507310493_1_original.jpg
CATEGORIES:Wellness Events,Yoga Events
LOCATION:Modern ŌM Bungalow\, 5020 Northeast 2nd Avenue\, Miami\, FL\, 331
 37\, United States
X-APPLE-STRUCTURED-LOCATION;VALUE=URI;X-ADDRESS=5020 Northeast 2nd Avenue\,
  Miami\, FL\, 33137\, United States;X-APPLE-RADIUS=100;X-TITLE=Modern ŌM 
 Bungalow:geo:0,0
END:VEVENT
BEGIN:VTIMEZONE
TZID:America/New_York
X-LIC-LOCATION:America/New_York
BEGIN:STANDARD
DTSTART:20231105T010000
TZOFFSETFROM:-0400
TZOFFSETTO:-0500
TZNAME:EST
END:STANDARD
END:VTIMEZONE
END:VCALENDAR